BEGIN:VCALENDAR
VERSION:2.0
PRODID:-//Municipalité Lac-Drolet - ECPv6.15.14//NONSGML v1.0//EN
CALSCALE:GREGORIAN
METHOD:PUBLISH
X-ORIGINAL-URL:https://lacdrolet.ca
X-WR-CALDESC:Évènements pour Municipalité Lac-Drolet
REFRESH-INTERVAL;VALUE=DURATION:PT1H
X-Robots-Tag:noindex
X-PUBLISHED-TTL:PT1H
BEGIN:VTIMEZONE
TZID:America/Toronto
BEGIN:DAYLIGHT
TZOFFSETFROM:-0500
TZOFFSETTO:-0400
TZNAME:EDT
DTSTART:20240310T070000
END:DAYLIGHT
BEGIN:STANDARD
TZOFFSETFROM:-0400
TZOFFSETTO:-0500
TZNAME:EST
DTSTART:20241103T060000
END:STANDARD
BEGIN:DAYLIGHT
TZOFFSETFROM:-0500
TZOFFSETTO:-0400
TZNAME:EDT
DTSTART:20250309T070000
END:DAYLIGHT
BEGIN:STANDARD
TZOFFSETFROM:-0400
TZOFFSETTO:-0500
TZNAME:EST
DTSTART:20251102T060000
END:STANDARD
BEGIN:DAYLIGHT
TZOFFSETFROM:-0500
TZOFFSETTO:-0400
TZNAME:EDT
DTSTART:20260308T070000
END:DAYLIGHT
BEGIN:STANDARD
TZOFFSETFROM:-0400
TZOFFSETTO:-0500
TZNAME:EST
DTSTART:20261101T060000
END:STANDARD
BEGIN:DAYLIGHT
TZOFFSETFROM:-0500
TZOFFSETTO:-0400
TZNAME:EDT
DTSTART:20270314T070000
END:DAYLIGHT
BEGIN:STANDARD
TZOFFSETFROM:-0400
TZOFFSETTO:-0500
TZNAME:EST
DTSTART:20271107T060000
END:STANDARD
END:VTIMEZONE
BEGIN:VEVENT
DTSTART;VALUE=DATE:20260710
DTEND;VALUE=DATE:20260711
DTSTAMP:20260420T024628
CREATED:20260112T135641Z
LAST-MODIFIED:20260112T135641Z
UID:8904-1783641600-1783727999@lacdrolet.ca
SUMMARY:Collecte de matières compostables et recyclables
DESCRIPTION:calendrier bacs \n 
URL:https://lacdrolet.ca/event/collecte-de-matieres-compostables-et-recyclables-16-2-2-2-2-2-2-2-2-2-2-2-2-2-2/
CATEGORIES:Collecte des matières compostables,Collecte des matières recyclables
END:VEVENT
BEGIN:VEVENT
DTSTART;TZID=America/Toronto:20260706T193000
DTEND;TZID=America/Toronto:20260706T210000
DTSTAMP:20260420T024628
CREATED:20260112T133948Z
LAST-MODIFIED:20260112T133948Z
UID:8872-1783366200-1783371600@lacdrolet.ca
SUMMARY:Séance ordinaire du conseil municipal
DESCRIPTION:
URL:https://lacdrolet.ca/event/seance-ordinaire-du-conseil-municipal-3-2-2-2-2-2-2-2/
CATEGORIES:Séance du conseil municipal
END:VEVENT
BEGIN:VEVENT
DTSTART;VALUE=DATE:20260701
DTEND;VALUE=DATE:20260702
DTSTAMP:20260420T024628
CREATED:20260112T140527Z
LAST-MODIFIED:20260112T140527Z
UID:8936-1782864000-1782950399@lacdrolet.ca
SUMMARY:Collecte des ordures
DESCRIPTION:
URL:https://lacdrolet.ca/event/collecte-des-ordures-19-2-2-2-2-2-2-2/
CATEGORIES:Collecte des ordures
ATTACH;FMTTYPE=image/png:https://lacdrolet.ca/wp-content/uploads/2016/07/bac-noir_ld.png
END:VEVENT
BEGIN:VEVENT
DTSTART;VALUE=DATE:20260626
DTEND;VALUE=DATE:20260627
DTSTAMP:20260420T024628
CREATED:20260112T135609Z
LAST-MODIFIED:20260112T135609Z
UID:8902-1782432000-1782518399@lacdrolet.ca
SUMMARY:Collecte de matières compostables et recyclables
DESCRIPTION:calendrier bacs \n 
URL:https://lacdrolet.ca/event/collecte-de-matieres-compostables-et-recyclables-16-2-2-2-2-2-2-2-2-2-2-2-2-2/
CATEGORIES:Collecte des matières compostables,Collecte des matières recyclables
END:VEVENT
BEGIN:VEVENT
DTSTART;VALUE=DATE:20260617
DTEND;VALUE=DATE:20260618
DTSTAMP:20260420T024628
CREATED:20260112T140457Z
LAST-MODIFIED:20260112T140457Z
UID:8934-1781654400-1781740799@lacdrolet.ca
SUMMARY:Collecte des ordures
DESCRIPTION:
URL:https://lacdrolet.ca/event/collecte-des-ordures-19-2-2-2-2-2-2/
CATEGORIES:Collecte des ordures
ATTACH;FMTTYPE=image/png:https://lacdrolet.ca/wp-content/uploads/2016/07/bac-noir_ld.png
END:VEVENT
BEGIN:VEVENT
DTSTART;VALUE=DATE:20260612
DTEND;VALUE=DATE:20260613
DTSTAMP:20260420T024628
CREATED:20260112T135546Z
LAST-MODIFIED:20260112T135546Z
UID:8900-1781222400-1781308799@lacdrolet.ca
SUMMARY:Collecte de matières compostables et recyclables
DESCRIPTION:calendrier bacs \n 
URL:https://lacdrolet.ca/event/collecte-de-matieres-compostables-et-recyclables-16-2-2-2-2-2-2-2-2-2-2-2-2/
CATEGORIES:Collecte des matières compostables,Collecte des matières recyclables
END:VEVENT
BEGIN:VEVENT
DTSTART;TZID=America/Toronto:20260601T193000
DTEND;TZID=America/Toronto:20260601T210000
DTSTAMP:20260420T024628
CREATED:20260112T133921Z
LAST-MODIFIED:20260112T133921Z
UID:8870-1780342200-1780347600@lacdrolet.ca
SUMMARY:Séance ordinaire du conseil municipal
DESCRIPTION:
URL:https://lacdrolet.ca/event/seance-ordinaire-du-conseil-municipal-3-2-2-2-2-2-2/
CATEGORIES:Séance du conseil municipal
END:VEVENT
BEGIN:VEVENT
DTSTART;VALUE=DATE:20260529
DTEND;VALUE=DATE:20260530
DTSTAMP:20260420T024628
CREATED:20260112T135442Z
LAST-MODIFIED:20260112T135516Z
UID:8898-1780012800-1780099199@lacdrolet.ca
SUMMARY:Collecte de matières compostables et recyclables
DESCRIPTION:calendrier bacs \n 
URL:https://lacdrolet.ca/event/collecte-de-matieres-compostables-et-recyclables-16-2-2-2-2-2-2-2-2-2-2-2/
CATEGORIES:Collecte des matières compostables,Collecte des matières recyclables
END:VEVENT
BEGIN:VEVENT
DTSTART;VALUE=DATE:20260520
DTEND;VALUE=DATE:20260521
DTSTAMP:20260420T024628
CREATED:20260112T140417Z
LAST-MODIFIED:20260112T140417Z
UID:8932-1779235200-1779321599@lacdrolet.ca
SUMMARY:Collecte des ordures
DESCRIPTION:
URL:https://lacdrolet.ca/event/collecte-des-ordures-19-2-2-2-2-2/
CATEGORIES:Collecte des ordures
ATTACH;FMTTYPE=image/png:https://lacdrolet.ca/wp-content/uploads/2016/07/bac-noir_ld.png
END:VEVENT
BEGIN:VEVENT
DTSTART;VALUE=DATE:20260515
DTEND;VALUE=DATE:20260516
DTSTAMP:20260420T024628
CREATED:20260112T135410Z
LAST-MODIFIED:20260112T135410Z
UID:8896-1778803200-1778889599@lacdrolet.ca
SUMMARY:Collecte de matières compostables et recyclables
DESCRIPTION:calendrier bacs \n 
URL:https://lacdrolet.ca/event/collecte-de-matieres-compostables-et-recyclables-16-2-2-2-2-2-2-2-2-2-2/
CATEGORIES:Collecte des matières compostables,Collecte des matières recyclables
END:VEVENT
BEGIN:VEVENT
DTSTART;TZID=America/Toronto:20260504T193000
DTEND;TZID=America/Toronto:20260504T210000
DTSTAMP:20260420T024628
CREATED:20260112T133855Z
LAST-MODIFIED:20260112T133855Z
UID:8868-1777923000-1777928400@lacdrolet.ca
SUMMARY:Séance ordinaire du conseil municipal
DESCRIPTION:
URL:https://lacdrolet.ca/event/seance-ordinaire-du-conseil-municipal-3-2-2-2-2-2/
CATEGORIES:Séance du conseil municipal
END:VEVENT
BEGIN:VEVENT
DTSTART;VALUE=DATE:20260501
DTEND;VALUE=DATE:20260502
DTSTAMP:20260420T024628
CREATED:20260112T135343Z
LAST-MODIFIED:20260112T135343Z
UID:8894-1777593600-1777679999@lacdrolet.ca
SUMMARY:Collecte de matières compostables et recyclables
DESCRIPTION:calendrier bacs \n 
URL:https://lacdrolet.ca/event/collecte-de-matieres-compostables-et-recyclables-16-2-2-2-2-2-2-2-2-2/
CATEGORIES:Collecte des matières compostables,Collecte des matières recyclables
END:VEVENT
BEGIN:VEVENT
DTSTART;VALUE=DATE:20260428
DTEND;VALUE=DATE:20260429
DTSTAMP:20260420T024628
CREATED:20260112T141211Z
LAST-MODIFIED:20260112T141211Z
UID:8956-1777334400-1777420799@lacdrolet.ca
SUMMARY:Collecte des encombrants
DESCRIPTION:
URL:https://lacdrolet.ca/event/collecte-des-encombrants-2-2/
CATEGORIES:Collecte des encombrants
END:VEVENT
BEGIN:VEVENT
DTSTART;VALUE=DATE:20260422
DTEND;VALUE=DATE:20260423
DTSTAMP:20260420T024628
CREATED:20260112T140345Z
LAST-MODIFIED:20260112T140345Z
UID:8930-1776816000-1776902399@lacdrolet.ca
SUMMARY:Collecte des ordures
DESCRIPTION:
URL:https://lacdrolet.ca/event/collecte-des-ordures-19-2-2-2-2/
CATEGORIES:Collecte des ordures
ATTACH;FMTTYPE=image/png:https://lacdrolet.ca/wp-content/uploads/2016/07/bac-noir_ld.png
END:VEVENT
BEGIN:VEVENT
DTSTART;VALUE=DATE:20260417
DTEND;VALUE=DATE:20260418
DTSTAMP:20260420T024628
CREATED:20260112T135215Z
LAST-MODIFIED:20260112T135215Z
UID:8892-1776384000-1776470399@lacdrolet.ca
SUMMARY:Collecte de matières compostables et recyclables
DESCRIPTION:calendrier bacs \n 
URL:https://lacdrolet.ca/event/collecte-de-matieres-compostables-et-recyclables-16-2-2-2-2-2-2-2-2/
CATEGORIES:Collecte des matières compostables,Collecte des matières recyclables
END:VEVENT
BEGIN:VEVENT
DTSTART;TZID=America/Toronto:20260407T193000
DTEND;TZID=America/Toronto:20260407T210000
DTSTAMP:20260420T024628
CREATED:20260112T133828Z
LAST-MODIFIED:20260112T133828Z
UID:8866-1775590200-1775595600@lacdrolet.ca
SUMMARY:Séance ordinaire du conseil municipal
DESCRIPTION:
URL:https://lacdrolet.ca/event/seance-ordinaire-du-conseil-municipal-3-2-2-2-2/
CATEGORIES:Séance du conseil municipal
END:VEVENT
BEGIN:VEVENT
DTSTART;VALUE=DATE:20260403
DTEND;VALUE=DATE:20260404
DTSTAMP:20260420T024628
CREATED:20260112T135135Z
LAST-MODIFIED:20260112T135135Z
UID:8890-1775174400-1775260799@lacdrolet.ca
SUMMARY:Collecte de matières compostables et recyclables
DESCRIPTION:calendrier bacs \n 
URL:https://lacdrolet.ca/event/collecte-de-matieres-compostables-et-recyclables-16-2-2-2-2-2-2-2/
CATEGORIES:Collecte des matières compostables,Collecte des matières recyclables
END:VEVENT
BEGIN:VEVENT
DTSTART;VALUE=DATE:20260325
DTEND;VALUE=DATE:20260326
DTSTAMP:20260420T024628
CREATED:20260112T140310Z
LAST-MODIFIED:20260112T140310Z
UID:8928-1774396800-1774483199@lacdrolet.ca
SUMMARY:Collecte des ordures
DESCRIPTION:
URL:https://lacdrolet.ca/event/collecte-des-ordures-19-2-2-2/
CATEGORIES:Collecte des ordures
ATTACH;FMTTYPE=image/png:https://lacdrolet.ca/wp-content/uploads/2016/07/bac-noir_ld.png
END:VEVENT
BEGIN:VEVENT
DTSTART;VALUE=DATE:20260320
DTEND;VALUE=DATE:20260321
DTSTAMP:20260420T024628
CREATED:20260112T135056Z
LAST-MODIFIED:20260112T135056Z
UID:8888-1773964800-1774051199@lacdrolet.ca
SUMMARY:Collecte de matières compostables et recyclables
DESCRIPTION:calendrier bacs \n 
URL:https://lacdrolet.ca/event/collecte-de-matieres-compostables-et-recyclables-16-2-2-2-2-2-2/
CATEGORIES:Collecte des matières compostables,Collecte des matières recyclables
END:VEVENT
BEGIN:VEVENT
DTSTART;TZID=America/Toronto:20260309T193000
DTEND;TZID=America/Toronto:20260309T210000
DTSTAMP:20260420T024628
CREATED:20260112T133802Z
LAST-MODIFIED:20260112T133802Z
UID:8864-1773084600-1773090000@lacdrolet.ca
SUMMARY:Séance ordinaire du conseil municipal
DESCRIPTION:
URL:https://lacdrolet.ca/event/seance-ordinaire-du-conseil-municipal-3-2-2-2/
CATEGORIES:Séance du conseil municipal
END:VEVENT
BEGIN:VEVENT
DTSTART;VALUE=DATE:20260306
DTEND;VALUE=DATE:20260307
DTSTAMP:20260420T024628
CREATED:20260112T135024Z
LAST-MODIFIED:20260112T135024Z
UID:8886-1772755200-1772841599@lacdrolet.ca
SUMMARY:Collecte de matières compostables et recyclables
DESCRIPTION:calendrier bacs \n 
URL:https://lacdrolet.ca/event/collecte-de-matieres-compostables-et-recyclables-16-2-2-2-2-2/
CATEGORIES:Collecte des matières compostables,Collecte des matières recyclables
END:VEVENT
BEGIN:VEVENT
DTSTART;VALUE=DATE:20260225
DTEND;VALUE=DATE:20260226
DTSTAMP:20260420T024628
CREATED:20260112T140243Z
LAST-MODIFIED:20260112T140243Z
UID:8926-1771977600-1772063999@lacdrolet.ca
SUMMARY:Collecte des ordures
DESCRIPTION:
URL:https://lacdrolet.ca/event/collecte-des-ordures-19-2-2/
CATEGORIES:Collecte des ordures
ATTACH;FMTTYPE=image/png:https://lacdrolet.ca/wp-content/uploads/2016/07/bac-noir_ld.png
END:VEVENT
BEGIN:VEVENT
DTSTART;VALUE=DATE:20260220
DTEND;VALUE=DATE:20260221
DTSTAMP:20260420T024628
CREATED:20260112T134953Z
LAST-MODIFIED:20260112T134953Z
UID:8884-1771545600-1771631999@lacdrolet.ca
SUMMARY:Collecte de matières compostables et recyclables
DESCRIPTION:calendrier bacs \n 
URL:https://lacdrolet.ca/event/collecte-de-matieres-compostables-et-recyclables-16-2-2-2-2/
CATEGORIES:Collecte des matières compostables,Collecte des matières recyclables
END:VEVENT
BEGIN:VEVENT
DTSTART;VALUE=DATE:20260206
DTEND;VALUE=DATE:20260207
DTSTAMP:20260420T024628
CREATED:20260112T141423Z
LAST-MODIFIED:20260112T141423Z
UID:8959-1770336000-1770422399@lacdrolet.ca
SUMMARY:Collecte des matières recyclables
DESCRIPTION:
URL:https://lacdrolet.ca/event/collecte-des-matieres-recyclables-5-3/
CATEGORIES:Collecte des matières recyclables
END:VEVENT
BEGIN:VEVENT
DTSTART;TZID=America/Toronto:20260202T193000
DTEND;TZID=America/Toronto:20260202T210000
DTSTAMP:20260420T024628
CREATED:20260112T133710Z
LAST-MODIFIED:20260112T133710Z
UID:8862-1770060600-1770066000@lacdrolet.ca
SUMMARY:Séance ordinaire du conseil municipal
DESCRIPTION:
URL:https://lacdrolet.ca/event/seance-ordinaire-du-conseil-municipal-3-2-2/
CATEGORIES:Séance du conseil municipal
END:VEVENT
BEGIN:VEVENT
DTSTART;VALUE=DATE:20260128
DTEND;VALUE=DATE:20260129
DTSTAMP:20260420T024628
CREATED:20260112T140211Z
LAST-MODIFIED:20260112T140211Z
UID:8924-1769558400-1769644799@lacdrolet.ca
SUMMARY:Collecte des ordures
DESCRIPTION:
URL:https://lacdrolet.ca/event/collecte-des-ordures-19-2/
CATEGORIES:Collecte des ordures
ATTACH;FMTTYPE=image/png:https://lacdrolet.ca/wp-content/uploads/2016/07/bac-noir_ld.png
END:VEVENT
BEGIN:VEVENT
DTSTART;VALUE=DATE:20260123
DTEND;VALUE=DATE:20260124
DTSTAMP:20260420T024628
CREATED:20260112T134846Z
LAST-MODIFIED:20260112T134846Z
UID:8882-1769126400-1769212799@lacdrolet.ca
SUMMARY:Collecte de matières compostables et recyclables
DESCRIPTION:calendrier bacs \n 
URL:https://lacdrolet.ca/event/collecte-de-matieres-compostables-et-recyclables-16-2-2-2/
CATEGORIES:Collecte des matières compostables,Collecte des matières recyclables
END:VEVENT
BEGIN:VEVENT
DTSTART;TZID=America/Toronto:20260112T193000
DTEND;TZID=America/Toronto:20260112T210000
DTSTAMP:20260420T024628
CREATED:20260112T133628Z
LAST-MODIFIED:20260112T133628Z
UID:8860-1768246200-1768251600@lacdrolet.ca
SUMMARY:Séance ordinaire du conseil municipal
DESCRIPTION:
URL:https://lacdrolet.ca/event/seance-ordinaire-du-conseil-municipal-3-2/
CATEGORIES:Séance du conseil municipal
END:VEVENT
BEGIN:VEVENT
DTSTART;VALUE=DATE:20260109
DTEND;VALUE=DATE:20260110
DTSTAMP:20260420T024628
CREATED:20260112T141350Z
LAST-MODIFIED:20260112T141350Z
UID:8958-1767916800-1768003199@lacdrolet.ca
SUMMARY:Collecte des matières recyclables
DESCRIPTION:
URL:https://lacdrolet.ca/event/collecte-des-matieres-recyclables-5-2/
CATEGORIES:Collecte des matières recyclables
END:VEVENT
BEGIN:VEVENT
DTSTART;TZID=America/Toronto:20250303T193000
DTEND;TZID=America/Toronto:20250303T210000
DTSTAMP:20260420T024628
CREATED:20250204T205827Z
LAST-MODIFIED:20250204T205827Z
UID:8772-1741030200-1741035600@lacdrolet.ca
SUMMARY:Séance ordinaire du conseil municipal
DESCRIPTION:
URL:https://lacdrolet.ca/event/seance-ordinaire-du-conseil-municipal-3/
END:VEVENT
END:VCALENDAR