BEGIN:VCALENDAR
VERSION:2.0
PRODID:-//Municipalité Lac-Drolet - ECPv6.15.14//NONSGML v1.0//EN
CALSCALE:GREGORIAN
METHOD:PUBLISH
X-ORIGINAL-URL:https://lacdrolet.ca
X-WR-CALDESC:Évènements pour Municipalité Lac-Drolet
REFRESH-INTERVAL;VALUE=DURATION:PT1H
X-Robots-Tag:noindex
X-PUBLISHED-TTL:PT1H
BEGIN:VTIMEZONE
TZID:America/Toronto
BEGIN:DAYLIGHT
TZOFFSETFROM:-0500
TZOFFSETTO:-0400
TZNAME:EDT
DTSTART:20250309T070000
END:DAYLIGHT
BEGIN:STANDARD
TZOFFSETFROM:-0400
TZOFFSETTO:-0500
TZNAME:EST
DTSTART:20251102T060000
END:STANDARD
BEGIN:DAYLIGHT
TZOFFSETFROM:-0500
TZOFFSETTO:-0400
TZNAME:EDT
DTSTART:20260308T070000
END:DAYLIGHT
BEGIN:STANDARD
TZOFFSETFROM:-0400
TZOFFSETTO:-0500
TZNAME:EST
DTSTART:20261101T060000
END:STANDARD
BEGIN:DAYLIGHT
TZOFFSETFROM:-0500
TZOFFSETTO:-0400
TZNAME:EDT
DTSTART:20270314T070000
END:DAYLIGHT
BEGIN:STANDARD
TZOFFSETFROM:-0400
TZOFFSETTO:-0500
TZNAME:EST
DTSTART:20271107T060000
END:STANDARD
END:VTIMEZONE
BEGIN:VEVENT
DTSTART;VALUE=DATE:20260626
DTEND;VALUE=DATE:20260627
DTSTAMP:20260420T024534
CREATED:20260112T135609Z
LAST-MODIFIED:20260112T135609Z
UID:8902-1782432000-1782518399@lacdrolet.ca
SUMMARY:Collecte de matières compostables et recyclables
DESCRIPTION:calendrier bacs \n 
URL:https://lacdrolet.ca/event/collecte-de-matieres-compostables-et-recyclables-16-2-2-2-2-2-2-2-2-2-2-2-2-2/
CATEGORIES:Collecte des matières compostables,Collecte des matières recyclables
END:VEVENT
BEGIN:VEVENT
DTSTART;VALUE=DATE:20260701
DTEND;VALUE=DATE:20260702
DTSTAMP:20260420T024534
CREATED:20260112T140527Z
LAST-MODIFIED:20260112T140527Z
UID:8936-1782864000-1782950399@lacdrolet.ca
SUMMARY:Collecte des ordures
DESCRIPTION:
URL:https://lacdrolet.ca/event/collecte-des-ordures-19-2-2-2-2-2-2-2/
CATEGORIES:Collecte des ordures
ATTACH;FMTTYPE=image/png:https://lacdrolet.ca/wp-content/uploads/2016/07/bac-noir_ld.png
END:VEVENT
BEGIN:VEVENT
DTSTART;TZID=America/Toronto:20260706T193000
DTEND;TZID=America/Toronto:20260706T210000
DTSTAMP:20260420T024534
CREATED:20260112T133948Z
LAST-MODIFIED:20260112T133948Z
UID:8872-1783366200-1783371600@lacdrolet.ca
SUMMARY:Séance ordinaire du conseil municipal
DESCRIPTION:
URL:https://lacdrolet.ca/event/seance-ordinaire-du-conseil-municipal-3-2-2-2-2-2-2-2/
CATEGORIES:Séance du conseil municipal
END:VEVENT
BEGIN:VEVENT
DTSTART;VALUE=DATE:20260710
DTEND;VALUE=DATE:20260711
DTSTAMP:20260420T024534
CREATED:20260112T135641Z
LAST-MODIFIED:20260112T135641Z
UID:8904-1783641600-1783727999@lacdrolet.ca
SUMMARY:Collecte de matières compostables et recyclables
DESCRIPTION:calendrier bacs \n 
URL:https://lacdrolet.ca/event/collecte-de-matieres-compostables-et-recyclables-16-2-2-2-2-2-2-2-2-2-2-2-2-2-2/
CATEGORIES:Collecte des matières compostables,Collecte des matières recyclables
END:VEVENT
BEGIN:VEVENT
DTSTART;VALUE=DATE:20260715
DTEND;VALUE=DATE:20260716
DTSTAMP:20260420T024534
CREATED:20260112T140551Z
LAST-MODIFIED:20260112T140551Z
UID:8938-1784073600-1784159999@lacdrolet.ca
SUMMARY:Collecte des ordures
DESCRIPTION:
URL:https://lacdrolet.ca/event/collecte-des-ordures-19-2-2-2-2-2-2-2-2/
CATEGORIES:Collecte des ordures
ATTACH;FMTTYPE=image/png:https://lacdrolet.ca/wp-content/uploads/2016/07/bac-noir_ld.png
END:VEVENT
BEGIN:VEVENT
DTSTART;VALUE=DATE:20260724
DTEND;VALUE=DATE:20260725
DTSTAMP:20260420T024534
CREATED:20260112T135705Z
LAST-MODIFIED:20260112T135705Z
UID:8906-1784851200-1784937599@lacdrolet.ca
SUMMARY:Collecte de matières compostables et recyclables
DESCRIPTION:calendrier bacs \n 
URL:https://lacdrolet.ca/event/collecte-de-matieres-compostables-et-recyclables-16-2-2-2-2-2-2-2-2-2-2-2-2-2-2-2/
CATEGORIES:Collecte des matières compostables,Collecte des matières recyclables
END:VEVENT
BEGIN:VEVENT
DTSTART;VALUE=DATE:20260729
DTEND;VALUE=DATE:20260730
DTSTAMP:20260420T024534
CREATED:20260112T140618Z
LAST-MODIFIED:20260112T140747Z
UID:8940-1785283200-1785369599@lacdrolet.ca
SUMMARY:Collecte des ordures
DESCRIPTION:
URL:https://lacdrolet.ca/event/collecte-des-ordures-19-2-2-2-2-2-2-2-2-2/
CATEGORIES:Collecte des ordures
ATTACH;FMTTYPE=image/png:https://lacdrolet.ca/wp-content/uploads/2016/07/bac-noir_ld.png
END:VEVENT
BEGIN:VEVENT
DTSTART;VALUE=DATE:20260807
DTEND;VALUE=DATE:20260808
DTSTAMP:20260420T024534
CREATED:20260112T135728Z
LAST-MODIFIED:20260112T135728Z
UID:8908-1786060800-1786147199@lacdrolet.ca
SUMMARY:Collecte de matières compostables et recyclables
DESCRIPTION:calendrier bacs \n 
URL:https://lacdrolet.ca/event/collecte-de-matieres-compostables-et-recyclables-16-2-2-2-2-2-2-2-2-2-2-2-2-2-2-2-2/
CATEGORIES:Collecte des matières compostables,Collecte des matières recyclables
END:VEVENT
BEGIN:VEVENT
DTSTART;TZID=America/Toronto:20260810T193000
DTEND;TZID=America/Toronto:20260810T210000
DTSTAMP:20260420T024534
CREATED:20260112T134253Z
LAST-MODIFIED:20260112T134253Z
UID:8874-1786390200-1786395600@lacdrolet.ca
SUMMARY:Séance ordinaire du conseil municipal
DESCRIPTION:
URL:https://lacdrolet.ca/event/seance-ordinaire-du-conseil-municipal-3-2-2-2-2-2-2-2-2/
CATEGORIES:Séance du conseil municipal
END:VEVENT
BEGIN:VEVENT
DTSTART;VALUE=DATE:20260812
DTEND;VALUE=DATE:20260813
DTSTAMP:20260420T024534
CREATED:20260112T140819Z
LAST-MODIFIED:20260112T140819Z
UID:8942-1786492800-1786579199@lacdrolet.ca
SUMMARY:Collecte des ordures
DESCRIPTION:
URL:https://lacdrolet.ca/event/collecte-des-ordures-19-2-2-2-2-2-2-2-2-2-2/
CATEGORIES:Collecte des ordures
ATTACH;FMTTYPE=image/png:https://lacdrolet.ca/wp-content/uploads/2016/07/bac-noir_ld.png
END:VEVENT
BEGIN:VEVENT
DTSTART;VALUE=DATE:20260821
DTEND;VALUE=DATE:20260822
DTSTAMP:20260420T024534
CREATED:20260112T135751Z
LAST-MODIFIED:20260112T135751Z
UID:8910-1787270400-1787356799@lacdrolet.ca
SUMMARY:Collecte de matières compostables et recyclables
DESCRIPTION:calendrier bacs \n 
URL:https://lacdrolet.ca/event/collecte-de-matieres-compostables-et-recyclables-16-2-2-2-2-2-2-2-2-2-2-2-2-2-2-2-2-2/
CATEGORIES:Collecte des matières compostables,Collecte des matières recyclables
END:VEVENT
BEGIN:VEVENT
DTSTART;VALUE=DATE:20260826
DTEND;VALUE=DATE:20260827
DTSTAMP:20260420T024534
CREATED:20260112T140849Z
LAST-MODIFIED:20260112T140849Z
UID:8944-1787702400-1787788799@lacdrolet.ca
SUMMARY:Collecte des ordures
DESCRIPTION:
URL:https://lacdrolet.ca/event/collecte-des-ordures-19-2-2-2-2-2-2-2-2-2-2-2/
CATEGORIES:Collecte des ordures
ATTACH;FMTTYPE=image/png:https://lacdrolet.ca/wp-content/uploads/2016/07/bac-noir_ld.png
END:VEVENT
BEGIN:VEVENT
DTSTART;VALUE=DATE:20260904
DTEND;VALUE=DATE:20260905
DTSTAMP:20260420T024534
CREATED:20260112T135818Z
LAST-MODIFIED:20260112T135818Z
UID:8912-1788480000-1788566399@lacdrolet.ca
SUMMARY:Collecte de matières compostables et recyclables
DESCRIPTION:calendrier bacs \n 
URL:https://lacdrolet.ca/event/collecte-de-matieres-compostables-et-recyclables-16-2-2-2-2-2-2-2-2-2-2-2-2-2-2-2-2-2-2/
CATEGORIES:Collecte des matières compostables,Collecte des matières recyclables
END:VEVENT
BEGIN:VEVENT
DTSTART;VALUE=DATE:20260909
DTEND;VALUE=DATE:20260910
DTSTAMP:20260420T024534
CREATED:20260112T140921Z
LAST-MODIFIED:20260112T140921Z
UID:8946-1788912000-1788998399@lacdrolet.ca
SUMMARY:Collecte des ordures
DESCRIPTION:
URL:https://lacdrolet.ca/event/collecte-des-ordures-19-2-2-2-2-2-2-2-2-2-2-2-2/
CATEGORIES:Collecte des ordures
ATTACH;FMTTYPE=image/png:https://lacdrolet.ca/wp-content/uploads/2016/07/bac-noir_ld.png
END:VEVENT
BEGIN:VEVENT
DTSTART;VALUE=DATE:20260918
DTEND;VALUE=DATE:20260919
DTSTAMP:20260420T024534
CREATED:20260112T135849Z
LAST-MODIFIED:20260112T135849Z
UID:8914-1789689600-1789775999@lacdrolet.ca
SUMMARY:Collecte de matières compostables et recyclables
DESCRIPTION:calendrier bacs \n 
URL:https://lacdrolet.ca/event/collecte-de-matieres-compostables-et-recyclables-16-2-2-2-2-2-2-2-2-2-2-2-2-2-2-2-2-2-2-2/
CATEGORIES:Collecte des matières compostables,Collecte des matières recyclables
END:VEVENT
BEGIN:VEVENT
DTSTART;VALUE=DATE:20261002
DTEND;VALUE=DATE:20261003
DTSTAMP:20260420T024534
CREATED:20260112T135926Z
LAST-MODIFIED:20260112T135926Z
UID:8916-1790899200-1790985599@lacdrolet.ca
SUMMARY:Collecte de matières compostables et recyclables
DESCRIPTION:calendrier bacs \n 
URL:https://lacdrolet.ca/event/collecte-de-matieres-compostables-et-recyclables-16-2-2-2-2-2-2-2-2-2-2-2-2-2-2-2-2-2-2-2-2/
CATEGORIES:Collecte des matières compostables,Collecte des matières recyclables
END:VEVENT
BEGIN:VEVENT
DTSTART;TZID=America/Toronto:20261005T193000
DTEND;TZID=America/Toronto:20261005T210000
DTSTAMP:20260420T024534
CREATED:20260112T134320Z
LAST-MODIFIED:20260112T134349Z
UID:8876-1791228600-1791234000@lacdrolet.ca
SUMMARY:Séance ordinaire du conseil municipal
DESCRIPTION:
URL:https://lacdrolet.ca/event/seance-ordinaire-du-conseil-municipal-3-2-2-2-2-2-2-2-2-2/
CATEGORIES:Séance du conseil municipal
END:VEVENT
BEGIN:VEVENT
DTSTART;VALUE=DATE:20261007
DTEND;VALUE=DATE:20261008
DTSTAMP:20260420T024534
CREATED:20260112T141017Z
LAST-MODIFIED:20260112T141017Z
UID:8948-1791331200-1791417599@lacdrolet.ca
SUMMARY:Collecte des ordures
DESCRIPTION:
URL:https://lacdrolet.ca/event/collecte-des-ordures-19-2-2-2-2-2-2-2-2-2-2-2-2-2/
CATEGORIES:Collecte des ordures
ATTACH;FMTTYPE=image/png:https://lacdrolet.ca/wp-content/uploads/2016/07/bac-noir_ld.png
END:VEVENT
BEGIN:VEVENT
DTSTART;VALUE=DATE:20261016
DTEND;VALUE=DATE:20261017
DTSTAMP:20260420T024534
CREATED:20260112T135948Z
LAST-MODIFIED:20260112T135948Z
UID:8918-1792108800-1792195199@lacdrolet.ca
SUMMARY:Collecte de matières compostables et recyclables
DESCRIPTION:calendrier bacs \n 
URL:https://lacdrolet.ca/event/collecte-de-matieres-compostables-et-recyclables-16-2-2-2-2-2-2-2-2-2-2-2-2-2-2-2-2-2-2-2-2-2/
CATEGORIES:Collecte des matières compostables,Collecte des matières recyclables
END:VEVENT
BEGIN:VEVENT
DTSTART;VALUE=DATE:20261030
DTEND;VALUE=DATE:20261031
DTSTAMP:20260420T024534
CREATED:20260112T140015Z
LAST-MODIFIED:20260112T140015Z
UID:8920-1793318400-1793404799@lacdrolet.ca
SUMMARY:Collecte de matières compostables et recyclables
DESCRIPTION:calendrier bacs \n 
URL:https://lacdrolet.ca/event/collecte-de-matieres-compostables-et-recyclables-16-2-2-2-2-2-2-2-2-2-2-2-2-2-2-2-2-2-2-2-2-2-2/
CATEGORIES:Collecte des matières compostables,Collecte des matières recyclables
END:VEVENT
BEGIN:VEVENT
DTSTART;TZID=America/Toronto:20261102T193000
DTEND;TZID=America/Toronto:20261102T210000
DTSTAMP:20260420T024534
CREATED:20260112T134417Z
LAST-MODIFIED:20260112T134417Z
UID:8878-1793647800-1793653200@lacdrolet.ca
SUMMARY:Séance ordinaire du conseil municipal
DESCRIPTION:
URL:https://lacdrolet.ca/event/seance-ordinaire-du-conseil-municipal-3-2-2-2-2-2-2-2-2-2-2/
CATEGORIES:Séance du conseil municipal
END:VEVENT
BEGIN:VEVENT
DTSTART;VALUE=DATE:20261104
DTEND;VALUE=DATE:20261105
DTSTAMP:20260420T024534
CREATED:20260112T141043Z
LAST-MODIFIED:20260112T141043Z
UID:8950-1793750400-1793836799@lacdrolet.ca
SUMMARY:Collecte des ordures
DESCRIPTION:
URL:https://lacdrolet.ca/event/collecte-des-ordures-19-2-2-2-2-2-2-2-2-2-2-2-2-2-2/
CATEGORIES:Collecte des ordures
ATTACH;FMTTYPE=image/png:https://lacdrolet.ca/wp-content/uploads/2016/07/bac-noir_ld.png
END:VEVENT
BEGIN:VEVENT
DTSTART;VALUE=DATE:20261113
DTEND;VALUE=DATE:20261114
DTSTAMP:20260420T024534
CREATED:20260112T141504Z
LAST-MODIFIED:20260112T141504Z
UID:8962-1794528000-1794614399@lacdrolet.ca
SUMMARY:Collecte des matières recyclables
DESCRIPTION:
URL:https://lacdrolet.ca/event/collecte-des-matieres-recyclables-5-3-2/
CATEGORIES:Collecte des matières recyclables
END:VEVENT
BEGIN:VEVENT
DTSTART;VALUE=DATE:20261127
DTEND;VALUE=DATE:20261128
DTSTAMP:20260420T024534
CREATED:20260112T140116Z
LAST-MODIFIED:20260112T140116Z
UID:8922-1795737600-1795823999@lacdrolet.ca
SUMMARY:Collecte de matières compostables et recyclables
DESCRIPTION:calendrier bacs \n 
URL:https://lacdrolet.ca/event/collecte-de-matieres-compostables-et-recyclables-16-2-2-2-2-2-2-2-2-2-2-2-2-2-2-2-2-2-2-2-2-2-2-2/
CATEGORIES:Collecte des matières compostables,Collecte des matières recyclables
END:VEVENT
BEGIN:VEVENT
DTSTART;VALUE=DATE:20261202
DTEND;VALUE=DATE:20261203
DTSTAMP:20260420T024534
CREATED:20260112T141104Z
LAST-MODIFIED:20260112T141104Z
UID:8952-1796169600-1796255999@lacdrolet.ca
SUMMARY:Collecte des ordures
DESCRIPTION:
URL:https://lacdrolet.ca/event/collecte-des-ordures-19-2-2-2-2-2-2-2-2-2-2-2-2-2-2-2/
CATEGORIES:Collecte des ordures
ATTACH;FMTTYPE=image/png:https://lacdrolet.ca/wp-content/uploads/2016/07/bac-noir_ld.png
END:VEVENT
BEGIN:VEVENT
DTSTART;TZID=America/Toronto:20261207T193000
DTEND;TZID=America/Toronto:20261207T210000
DTSTAMP:20260420T024534
CREATED:20260112T134440Z
LAST-MODIFIED:20260112T134440Z
UID:8880-1796671800-1796677200@lacdrolet.ca
SUMMARY:Séance ordinaire du conseil municipal
DESCRIPTION:
URL:https://lacdrolet.ca/event/seance-ordinaire-du-conseil-municipal-3-2-2-2-2-2-2-2-2-2-2-2/
CATEGORIES:Séance du conseil municipal
END:VEVENT
BEGIN:VEVENT
DTSTART;VALUE=DATE:20261211
DTEND;VALUE=DATE:20261212
DTSTAMP:20260420T024534
CREATED:20260112T141530Z
LAST-MODIFIED:20260112T141530Z
UID:8964-1796947200-1797033599@lacdrolet.ca
SUMMARY:Collecte des matières recyclables
DESCRIPTION:
URL:https://lacdrolet.ca/event/collecte-des-matieres-recyclables-5-3-2-2/
CATEGORIES:Collecte des matières recyclables
END:VEVENT
BEGIN:VEVENT
DTSTART;VALUE=DATE:20261222
DTEND;VALUE=DATE:20261223
DTSTAMP:20260420T024534
CREATED:20260112T142136Z
LAST-MODIFIED:20260112T142136Z
UID:8966-1797897600-1797983999@lacdrolet.ca
SUMMARY:Collecte des matières recyclables
DESCRIPTION:
URL:https://lacdrolet.ca/event/collecte-des-matieres-recyclables-5-3-2-2-2/
CATEGORIES:Collecte des matières recyclables
END:VEVENT
BEGIN:VEVENT
DTSTART;VALUE=DATE:20261228
DTEND;VALUE=DATE:20261229
DTSTAMP:20260420T024534
CREATED:20260112T142321Z
LAST-MODIFIED:20260112T142321Z
UID:5829-1798416000-1798502399@lacdrolet.ca
SUMMARY:Collecte des matières compostables
DESCRIPTION:
URL:https://lacdrolet.ca/event/collecte-des-matieres-compostables-4/
CATEGORIES:Collecte des matières compostables
END:VEVENT
BEGIN:VEVENT
DTSTART;VALUE=DATE:20261230
DTEND;VALUE=DATE:20261231
DTSTAMP:20260420T024534
CREATED:20260112T141125Z
LAST-MODIFIED:20260112T141125Z
UID:8954-1798588800-1798675199@lacdrolet.ca
SUMMARY:Collecte des ordures
DESCRIPTION:
URL:https://lacdrolet.ca/event/collecte-des-ordures-19-2-2-2-2-2-2-2-2-2-2-2-2-2-2-2-2/
CATEGORIES:Collecte des ordures
ATTACH;FMTTYPE=image/png:https://lacdrolet.ca/wp-content/uploads/2016/07/bac-noir_ld.png
END:VEVENT
END:VCALENDAR