BEGIN:VCALENDAR
VERSION:2.0
PRODID:-//Municipalité Lac-Drolet - ECPv6.15.14//NONSGML v1.0//EN
CALSCALE:GREGORIAN
METHOD:PUBLISH
X-WR-CALNAME:Municipalité Lac-Drolet
X-ORIGINAL-URL:https://lacdrolet.ca
X-WR-CALDESC:Évènements pour Municipalité Lac-Drolet
REFRESH-INTERVAL;VALUE=DURATION:PT1H
X-Robots-Tag:noindex
X-PUBLISHED-TTL:PT1H
BEGIN:VTIMEZONE
TZID:America/Toronto
BEGIN:DAYLIGHT
TZOFFSETFROM:-0500
TZOFFSETTO:-0400
TZNAME:EDT
DTSTART:20230312T070000
END:DAYLIGHT
BEGIN:STANDARD
TZOFFSETFROM:-0400
TZOFFSETTO:-0500
TZNAME:EST
DTSTART:20231105T060000
END:STANDARD
BEGIN:DAYLIGHT
TZOFFSETFROM:-0500
TZOFFSETTO:-0400
TZNAME:EDT
DTSTART:20240310T070000
END:DAYLIGHT
BEGIN:STANDARD
TZOFFSETFROM:-0400
TZOFFSETTO:-0500
TZNAME:EST
DTSTART:20241103T060000
END:STANDARD
BEGIN:DAYLIGHT
TZOFFSETFROM:-0500
TZOFFSETTO:-0400
TZNAME:EDT
DTSTART:20250309T070000
END:DAYLIGHT
BEGIN:STANDARD
TZOFFSETFROM:-0400
TZOFFSETTO:-0500
TZNAME:EST
DTSTART:20251102T060000
END:STANDARD
BEGIN:DAYLIGHT
TZOFFSETFROM:-0500
TZOFFSETTO:-0400
TZNAME:EDT
DTSTART:20260308T070000
END:DAYLIGHT
BEGIN:STANDARD
TZOFFSETFROM:-0400
TZOFFSETTO:-0500
TZNAME:EST
DTSTART:20261101T060000
END:STANDARD
BEGIN:DAYLIGHT
TZOFFSETFROM:-0500
TZOFFSETTO:-0400
TZNAME:EDT
DTSTART:20270314T070000
END:DAYLIGHT
BEGIN:STANDARD
TZOFFSETFROM:-0400
TZOFFSETTO:-0500
TZNAME:EST
DTSTART:20271107T060000
END:STANDARD
END:VTIMEZONE
BEGIN:VEVENT
DTSTART;VALUE=DATE:20260123
DTEND;VALUE=DATE:20260124
DTSTAMP:20260420T010101
CREATED:20260112T134846Z
LAST-MODIFIED:20260112T134846Z
UID:8882-1769126400-1769212799@lacdrolet.ca
SUMMARY:Collecte de matières compostables et recyclables
DESCRIPTION:calendrier bacs \n 
URL:https://lacdrolet.ca/event/collecte-de-matieres-compostables-et-recyclables-16-2-2-2/
CATEGORIES:Collecte des matières compostables,Collecte des matières recyclables
END:VEVENT
BEGIN:VEVENT
DTSTART;TZID=America/Toronto:20260112T193000
DTEND;TZID=America/Toronto:20260112T210000
DTSTAMP:20260420T010101
CREATED:20260112T133628Z
LAST-MODIFIED:20260112T133628Z
UID:8860-1768246200-1768251600@lacdrolet.ca
SUMMARY:Séance ordinaire du conseil municipal
DESCRIPTION:
URL:https://lacdrolet.ca/event/seance-ordinaire-du-conseil-municipal-3-2/
CATEGORIES:Séance du conseil municipal
END:VEVENT
BEGIN:VEVENT
DTSTART;VALUE=DATE:20260109
DTEND;VALUE=DATE:20260110
DTSTAMP:20260420T010101
CREATED:20260112T141350Z
LAST-MODIFIED:20260112T141350Z
UID:8958-1767916800-1768003199@lacdrolet.ca
SUMMARY:Collecte des matières recyclables
DESCRIPTION:
URL:https://lacdrolet.ca/event/collecte-des-matieres-recyclables-5-2/
CATEGORIES:Collecte des matières recyclables
END:VEVENT
BEGIN:VEVENT
DTSTART;TZID=America/Toronto:20250303T193000
DTEND;TZID=America/Toronto:20250303T210000
DTSTAMP:20260420T010101
CREATED:20250204T205827Z
LAST-MODIFIED:20250204T205827Z
UID:8772-1741030200-1741035600@lacdrolet.ca
SUMMARY:Séance ordinaire du conseil municipal
DESCRIPTION:
URL:https://lacdrolet.ca/event/seance-ordinaire-du-conseil-municipal-3/
END:VEVENT
BEGIN:VEVENT
DTSTART;TZID=America/Toronto:20241219T080000
DTEND;TZID=America/Toronto:20241219T153000
DTSTAMP:20260420T010101
CREATED:20240129T211029Z
LAST-MODIFIED:20240129T211029Z
UID:8660-1734595200-1734622200@lacdrolet.ca
SUMMARY:Transport collectif du Granit
DESCRIPTION:
URL:https://lacdrolet.ca/event/transport-collectif-du-granit/2024-12-19/
CATEGORIES:Transport collectif du Granit
ATTACH;FMTTYPE=image/png:https://lacdrolet.ca/wp-content/uploads/2024/01/tcg_couleur.png
END:VEVENT
BEGIN:VEVENT
DTSTART;TZID=America/Toronto:20241216T080000
DTEND;TZID=America/Toronto:20241216T153000
DTSTAMP:20260420T010101
CREATED:20240129T211029Z
LAST-MODIFIED:20240129T211029Z
UID:8659-1734336000-1734363000@lacdrolet.ca
SUMMARY:Transport collectif du Granit
DESCRIPTION:
URL:https://lacdrolet.ca/event/transport-collectif-du-granit/2024-12-16/
CATEGORIES:Transport collectif du Granit
ATTACH;FMTTYPE=image/png:https://lacdrolet.ca/wp-content/uploads/2024/01/tcg_couleur.png
END:VEVENT
BEGIN:VEVENT
DTSTART;TZID=America/Toronto:20241212T080000
DTEND;TZID=America/Toronto:20241212T153000
DTSTAMP:20260420T010101
CREATED:20240129T211029Z
LAST-MODIFIED:20240129T211029Z
UID:8658-1733990400-1734017400@lacdrolet.ca
SUMMARY:Transport collectif du Granit
DESCRIPTION:
URL:https://lacdrolet.ca/event/transport-collectif-du-granit/2024-12-12/
CATEGORIES:Transport collectif du Granit
ATTACH;FMTTYPE=image/png:https://lacdrolet.ca/wp-content/uploads/2024/01/tcg_couleur.png
END:VEVENT
BEGIN:VEVENT
DTSTART;TZID=America/Toronto:20241209T080000
DTEND;TZID=America/Toronto:20241209T153000
DTSTAMP:20260420T010101
CREATED:20240129T211029Z
LAST-MODIFIED:20240129T211029Z
UID:8657-1733731200-1733758200@lacdrolet.ca
SUMMARY:Transport collectif du Granit
DESCRIPTION:
URL:https://lacdrolet.ca/event/transport-collectif-du-granit/2024-12-09/
CATEGORIES:Transport collectif du Granit
ATTACH;FMTTYPE=image/png:https://lacdrolet.ca/wp-content/uploads/2024/01/tcg_couleur.png
END:VEVENT
BEGIN:VEVENT
DTSTART;TZID=America/Toronto:20241205T080000
DTEND;TZID=America/Toronto:20241205T153000
DTSTAMP:20260420T010101
CREATED:20240129T211029Z
LAST-MODIFIED:20240129T211029Z
UID:8656-1733385600-1733412600@lacdrolet.ca
SUMMARY:Transport collectif du Granit
DESCRIPTION:
URL:https://lacdrolet.ca/event/transport-collectif-du-granit/2024-12-05/
CATEGORIES:Transport collectif du Granit
ATTACH;FMTTYPE=image/png:https://lacdrolet.ca/wp-content/uploads/2024/01/tcg_couleur.png
END:VEVENT
BEGIN:VEVENT
DTSTART;TZID=America/Toronto:20241202T080000
DTEND;TZID=America/Toronto:20241202T153000
DTSTAMP:20260420T010101
CREATED:20240129T211029Z
LAST-MODIFIED:20240129T211029Z
UID:8655-1733126400-1733153400@lacdrolet.ca
SUMMARY:Transport collectif du Granit
DESCRIPTION:
URL:https://lacdrolet.ca/event/transport-collectif-du-granit/2024-12-02/
CATEGORIES:Transport collectif du Granit
ATTACH;FMTTYPE=image/png:https://lacdrolet.ca/wp-content/uploads/2024/01/tcg_couleur.png
END:VEVENT
BEGIN:VEVENT
DTSTART;TZID=America/Toronto:20241128T080000
DTEND;TZID=America/Toronto:20241128T153000
DTSTAMP:20260420T010101
CREATED:20240129T211029Z
LAST-MODIFIED:20240129T211029Z
UID:8654-1732780800-1732807800@lacdrolet.ca
SUMMARY:Transport collectif du Granit
DESCRIPTION:
URL:https://lacdrolet.ca/event/transport-collectif-du-granit/2024-11-28/
CATEGORIES:Transport collectif du Granit
ATTACH;FMTTYPE=image/png:https://lacdrolet.ca/wp-content/uploads/2024/01/tcg_couleur.png
END:VEVENT
BEGIN:VEVENT
DTSTART;TZID=America/Toronto:20241125T080000
DTEND;TZID=America/Toronto:20241125T153000
DTSTAMP:20260420T010101
CREATED:20240129T211029Z
LAST-MODIFIED:20240129T211029Z
UID:8653-1732521600-1732548600@lacdrolet.ca
SUMMARY:Transport collectif du Granit
DESCRIPTION:
URL:https://lacdrolet.ca/event/transport-collectif-du-granit/2024-11-25/
CATEGORIES:Transport collectif du Granit
ATTACH;FMTTYPE=image/png:https://lacdrolet.ca/wp-content/uploads/2024/01/tcg_couleur.png
END:VEVENT
BEGIN:VEVENT
DTSTART;TZID=America/Toronto:20241121T080000
DTEND;TZID=America/Toronto:20241121T153000
DTSTAMP:20260420T010101
CREATED:20240129T211029Z
LAST-MODIFIED:20240129T211029Z
UID:8652-1732176000-1732203000@lacdrolet.ca
SUMMARY:Transport collectif du Granit
DESCRIPTION:
URL:https://lacdrolet.ca/event/transport-collectif-du-granit/2024-11-21/
CATEGORIES:Transport collectif du Granit
ATTACH;FMTTYPE=image/png:https://lacdrolet.ca/wp-content/uploads/2024/01/tcg_couleur.png
END:VEVENT
BEGIN:VEVENT
DTSTART;TZID=America/Toronto:20241118T080000
DTEND;TZID=America/Toronto:20241118T153000
DTSTAMP:20260420T010101
CREATED:20240129T211029Z
LAST-MODIFIED:20240129T211029Z
UID:8651-1731916800-1731943800@lacdrolet.ca
SUMMARY:Transport collectif du Granit
DESCRIPTION:
URL:https://lacdrolet.ca/event/transport-collectif-du-granit/2024-11-18/
CATEGORIES:Transport collectif du Granit
ATTACH;FMTTYPE=image/png:https://lacdrolet.ca/wp-content/uploads/2024/01/tcg_couleur.png
END:VEVENT
BEGIN:VEVENT
DTSTART;TZID=America/Toronto:20241114T080000
DTEND;TZID=America/Toronto:20241114T153000
DTSTAMP:20260420T010101
CREATED:20240129T211029Z
LAST-MODIFIED:20240129T211029Z
UID:8650-1731571200-1731598200@lacdrolet.ca
SUMMARY:Transport collectif du Granit
DESCRIPTION:
URL:https://lacdrolet.ca/event/transport-collectif-du-granit/2024-11-14/
CATEGORIES:Transport collectif du Granit
ATTACH;FMTTYPE=image/png:https://lacdrolet.ca/wp-content/uploads/2024/01/tcg_couleur.png
END:VEVENT
BEGIN:VEVENT
DTSTART;TZID=America/Toronto:20241111T080000
DTEND;TZID=America/Toronto:20241111T153000
DTSTAMP:20260420T010101
CREATED:20240129T211029Z
LAST-MODIFIED:20240129T211029Z
UID:8649-1731312000-1731339000@lacdrolet.ca
SUMMARY:Transport collectif du Granit
DESCRIPTION:
URL:https://lacdrolet.ca/event/transport-collectif-du-granit/2024-11-11/
CATEGORIES:Transport collectif du Granit
ATTACH;FMTTYPE=image/png:https://lacdrolet.ca/wp-content/uploads/2024/01/tcg_couleur.png
END:VEVENT
BEGIN:VEVENT
DTSTART;TZID=America/Toronto:20241107T080000
DTEND;TZID=America/Toronto:20241107T153000
DTSTAMP:20260420T010101
CREATED:20240129T211029Z
LAST-MODIFIED:20240129T211029Z
UID:8648-1730966400-1730993400@lacdrolet.ca
SUMMARY:Transport collectif du Granit
DESCRIPTION:
URL:https://lacdrolet.ca/event/transport-collectif-du-granit/2024-11-07/
CATEGORIES:Transport collectif du Granit
ATTACH;FMTTYPE=image/png:https://lacdrolet.ca/wp-content/uploads/2024/01/tcg_couleur.png
END:VEVENT
BEGIN:VEVENT
DTSTART;TZID=America/Toronto:20241104T080000
DTEND;TZID=America/Toronto:20241104T153000
DTSTAMP:20260420T010101
CREATED:20240129T211029Z
LAST-MODIFIED:20240129T211029Z
UID:8647-1730707200-1730734200@lacdrolet.ca
SUMMARY:Transport collectif du Granit
DESCRIPTION:
URL:https://lacdrolet.ca/event/transport-collectif-du-granit/2024-11-04/
CATEGORIES:Transport collectif du Granit
ATTACH;FMTTYPE=image/png:https://lacdrolet.ca/wp-content/uploads/2024/01/tcg_couleur.png
END:VEVENT
BEGIN:VEVENT
DTSTART;TZID=America/Toronto:20241031T080000
DTEND;TZID=America/Toronto:20241031T153000
DTSTAMP:20260420T010101
CREATED:20240129T211029Z
LAST-MODIFIED:20240129T211029Z
UID:8646-1730361600-1730388600@lacdrolet.ca
SUMMARY:Transport collectif du Granit
DESCRIPTION:
URL:https://lacdrolet.ca/event/transport-collectif-du-granit/2024-10-31/
CATEGORIES:Transport collectif du Granit
ATTACH;FMTTYPE=image/png:https://lacdrolet.ca/wp-content/uploads/2024/01/tcg_couleur.png
END:VEVENT
BEGIN:VEVENT
DTSTART;TZID=America/Toronto:20241028T080000
DTEND;TZID=America/Toronto:20241028T153000
DTSTAMP:20260420T010101
CREATED:20240129T211029Z
LAST-MODIFIED:20240129T211029Z
UID:8645-1730102400-1730129400@lacdrolet.ca
SUMMARY:Transport collectif du Granit
DESCRIPTION:
URL:https://lacdrolet.ca/event/transport-collectif-du-granit/2024-10-28/
CATEGORIES:Transport collectif du Granit
ATTACH;FMTTYPE=image/png:https://lacdrolet.ca/wp-content/uploads/2024/01/tcg_couleur.png
END:VEVENT
BEGIN:VEVENT
DTSTART;TZID=America/Toronto:20241024T080000
DTEND;TZID=America/Toronto:20241024T153000
DTSTAMP:20260420T010101
CREATED:20240129T211029Z
LAST-MODIFIED:20240129T211029Z
UID:8644-1729756800-1729783800@lacdrolet.ca
SUMMARY:Transport collectif du Granit
DESCRIPTION:
URL:https://lacdrolet.ca/event/transport-collectif-du-granit/2024-10-24/
CATEGORIES:Transport collectif du Granit
ATTACH;FMTTYPE=image/png:https://lacdrolet.ca/wp-content/uploads/2024/01/tcg_couleur.png
END:VEVENT
BEGIN:VEVENT
DTSTART;TZID=America/Toronto:20241021T080000
DTEND;TZID=America/Toronto:20241021T153000
DTSTAMP:20260420T010101
CREATED:20240129T211029Z
LAST-MODIFIED:20240129T211029Z
UID:8643-1729497600-1729524600@lacdrolet.ca
SUMMARY:Transport collectif du Granit
DESCRIPTION:
URL:https://lacdrolet.ca/event/transport-collectif-du-granit/2024-10-21/
CATEGORIES:Transport collectif du Granit
ATTACH;FMTTYPE=image/png:https://lacdrolet.ca/wp-content/uploads/2024/01/tcg_couleur.png
END:VEVENT
BEGIN:VEVENT
DTSTART;TZID=America/Toronto:20241017T080000
DTEND;TZID=America/Toronto:20241017T153000
DTSTAMP:20260420T010101
CREATED:20240129T211029Z
LAST-MODIFIED:20240129T211029Z
UID:8642-1729152000-1729179000@lacdrolet.ca
SUMMARY:Transport collectif du Granit
DESCRIPTION:
URL:https://lacdrolet.ca/event/transport-collectif-du-granit/2024-10-17/
CATEGORIES:Transport collectif du Granit
ATTACH;FMTTYPE=image/png:https://lacdrolet.ca/wp-content/uploads/2024/01/tcg_couleur.png
END:VEVENT
BEGIN:VEVENT
DTSTART;TZID=America/Toronto:20241014T080000
DTEND;TZID=America/Toronto:20241014T153000
DTSTAMP:20260420T010101
CREATED:20240129T211029Z
LAST-MODIFIED:20240129T211029Z
UID:8641-1728892800-1728919800@lacdrolet.ca
SUMMARY:Transport collectif du Granit
DESCRIPTION:
URL:https://lacdrolet.ca/event/transport-collectif-du-granit/2024-10-14/
CATEGORIES:Transport collectif du Granit
ATTACH;FMTTYPE=image/png:https://lacdrolet.ca/wp-content/uploads/2024/01/tcg_couleur.png
END:VEVENT
BEGIN:VEVENT
DTSTART;TZID=America/Toronto:20241010T080000
DTEND;TZID=America/Toronto:20241010T153000
DTSTAMP:20260420T010101
CREATED:20240129T211029Z
LAST-MODIFIED:20240129T211029Z
UID:8640-1728547200-1728574200@lacdrolet.ca
SUMMARY:Transport collectif du Granit
DESCRIPTION:
URL:https://lacdrolet.ca/event/transport-collectif-du-granit/2024-10-10/
CATEGORIES:Transport collectif du Granit
ATTACH;FMTTYPE=image/png:https://lacdrolet.ca/wp-content/uploads/2024/01/tcg_couleur.png
END:VEVENT
BEGIN:VEVENT
DTSTART;TZID=America/Toronto:20241007T080000
DTEND;TZID=America/Toronto:20241007T153000
DTSTAMP:20260420T010101
CREATED:20240129T211029Z
LAST-MODIFIED:20240129T211029Z
UID:8639-1728288000-1728315000@lacdrolet.ca
SUMMARY:Transport collectif du Granit
DESCRIPTION:
URL:https://lacdrolet.ca/event/transport-collectif-du-granit/2024-10-07/
CATEGORIES:Transport collectif du Granit
ATTACH;FMTTYPE=image/png:https://lacdrolet.ca/wp-content/uploads/2024/01/tcg_couleur.png
END:VEVENT
BEGIN:VEVENT
DTSTART;TZID=America/Toronto:20241003T080000
DTEND;TZID=America/Toronto:20241003T153000
DTSTAMP:20260420T010101
CREATED:20240129T211029Z
LAST-MODIFIED:20240129T211029Z
UID:8638-1727942400-1727969400@lacdrolet.ca
SUMMARY:Transport collectif du Granit
DESCRIPTION:
URL:https://lacdrolet.ca/event/transport-collectif-du-granit/2024-10-03/
CATEGORIES:Transport collectif du Granit
ATTACH;FMTTYPE=image/png:https://lacdrolet.ca/wp-content/uploads/2024/01/tcg_couleur.png
END:VEVENT
BEGIN:VEVENT
DTSTART;TZID=America/Toronto:20240930T080000
DTEND;TZID=America/Toronto:20240930T153000
DTSTAMP:20260420T010101
CREATED:20240129T211029Z
LAST-MODIFIED:20240129T211029Z
UID:8637-1727683200-1727710200@lacdrolet.ca
SUMMARY:Transport collectif du Granit
DESCRIPTION:
URL:https://lacdrolet.ca/event/transport-collectif-du-granit/2024-09-30/
CATEGORIES:Transport collectif du Granit
ATTACH;FMTTYPE=image/png:https://lacdrolet.ca/wp-content/uploads/2024/01/tcg_couleur.png
END:VEVENT
BEGIN:VEVENT
DTSTART;TZID=America/Toronto:20240926T080000
DTEND;TZID=America/Toronto:20240926T153000
DTSTAMP:20260420T010101
CREATED:20240129T211029Z
LAST-MODIFIED:20240129T211029Z
UID:8636-1727337600-1727364600@lacdrolet.ca
SUMMARY:Transport collectif du Granit
DESCRIPTION:
URL:https://lacdrolet.ca/event/transport-collectif-du-granit/2024-09-26/
CATEGORIES:Transport collectif du Granit
ATTACH;FMTTYPE=image/png:https://lacdrolet.ca/wp-content/uploads/2024/01/tcg_couleur.png
END:VEVENT
BEGIN:VEVENT
DTSTART;TZID=America/Toronto:20240923T080000
DTEND;TZID=America/Toronto:20240923T153000
DTSTAMP:20260420T010101
CREATED:20240129T211029Z
LAST-MODIFIED:20240129T211029Z
UID:8635-1727078400-1727105400@lacdrolet.ca
SUMMARY:Transport collectif du Granit
DESCRIPTION:
URL:https://lacdrolet.ca/event/transport-collectif-du-granit/2024-09-23/
CATEGORIES:Transport collectif du Granit
ATTACH;FMTTYPE=image/png:https://lacdrolet.ca/wp-content/uploads/2024/01/tcg_couleur.png
END:VEVENT
END:VCALENDAR