BEGIN:VCALENDAR
VERSION:2.0
PRODID:-//Municipalité Lac-Drolet - ECPv6.15.14//NONSGML v1.0//EN
CALSCALE:GREGORIAN
METHOD:PUBLISH
X-WR-CALNAME:Municipalité Lac-Drolet
X-ORIGINAL-URL:https://lacdrolet.ca
X-WR-CALDESC:Évènements pour Municipalité Lac-Drolet
REFRESH-INTERVAL;VALUE=DURATION:PT1H
X-Robots-Tag:noindex
X-PUBLISHED-TTL:PT1H
BEGIN:VTIMEZONE
TZID:America/Toronto
BEGIN:DAYLIGHT
TZOFFSETFROM:-0500
TZOFFSETTO:-0400
TZNAME:EDT
DTSTART:20150308T070000
END:DAYLIGHT
BEGIN:STANDARD
TZOFFSETFROM:-0400
TZOFFSETTO:-0500
TZNAME:EST
DTSTART:20151101T060000
END:STANDARD
BEGIN:DAYLIGHT
TZOFFSETFROM:-0500
TZOFFSETTO:-0400
TZNAME:EDT
DTSTART:20160313T070000
END:DAYLIGHT
BEGIN:STANDARD
TZOFFSETFROM:-0400
TZOFFSETTO:-0500
TZNAME:EST
DTSTART:20161106T060000
END:STANDARD
BEGIN:DAYLIGHT
TZOFFSETFROM:-0500
TZOFFSETTO:-0400
TZNAME:EDT
DTSTART:20170312T070000
END:DAYLIGHT
BEGIN:STANDARD
TZOFFSETFROM:-0400
TZOFFSETTO:-0500
TZNAME:EST
DTSTART:20171105T060000
END:STANDARD
END:VTIMEZONE
BEGIN:VEVENT
DTSTART;VALUE=DATE:20160911
DTEND;VALUE=DATE:20160912
DTSTAMP:20260421T084823
CREATED:20160823T155306Z
LAST-MODIFIED:20160830T195131Z
UID:5984-1473552000-1473638399@lacdrolet.ca
SUMMARY:Défi Mont Gym
DESCRIPTION:
URL:https://lacdrolet.ca/event/defi-mont-gym/
LOCATION:Québec
CATEGORIES:Activités et événements
ATTACH;FMTTYPE=image/png:https://lacdrolet.ca/wp-content/uploads/2016/06/logo-1.png
END:VEVENT
BEGIN:VEVENT
DTSTART;VALUE=DATE:20160907
DTEND;VALUE=DATE:20160908
DTSTAMP:20260421T084823
CREATED:20160704T161226Z
LAST-MODIFIED:20160831T150324Z
UID:5604-1473206400-1473292799@lacdrolet.ca
SUMMARY:Collecte des encombrants
DESCRIPTION:Détails de la collecte des encombrants : \nhttps://lacdrolet.ca/collecte-des-encombrants/
URL:https://lacdrolet.ca/event/collecte-des-encombrants/
LOCATION:Québec
CATEGORIES:Collecte des encombrants
END:VEVENT
BEGIN:VEVENT
DTSTART;TZID=America/Toronto:20160906T190000
DTEND;TZID=America/Toronto:20160906T210000
DTSTAMP:20260421T084823
CREATED:20160704T161538Z
LAST-MODIFIED:20160704T161538Z
UID:5605-1473188400-1473195600@lacdrolet.ca
SUMMARY:Séance régulière du conseil municipal
DESCRIPTION:
URL:https://lacdrolet.ca/event/seance-reguliere-du-conseil-municipal/
LOCATION:Québec
CATEGORIES:Séance du conseil municipal
END:VEVENT
BEGIN:VEVENT
DTSTART;TZID=America/Toronto:20160801T190000
DTEND;TZID=America/Toronto:20160801T210000
DTSTAMP:20260421T084823
CREATED:20160629T150918Z
LAST-MODIFIED:20160629T180521Z
UID:5359-1470078000-1470085200@lacdrolet.ca
SUMMARY:Séance régulière du conseil municipal
DESCRIPTION:
URL:https://lacdrolet.ca/event/seance-reguliere/
LOCATION:Salle du conseil\, 685\, rue Principale\, Lac-Drolet\, Québec\, G0Y 1C0\, Canada
CATEGORIES:Séance du conseil municipal
GEO:45.7187381;-70.8491712
X-APPLE-STRUCTURED-LOCATION;VALUE=URI;X-ADDRESS=Salle du conseil 685 rue Principale Lac-Drolet Québec G0Y 1C0 Canada;X-APPLE-RADIUS=500;X-TITLE=685\, rue Principale:geo:-70.8491712,45.7187381
END:VEVENT
BEGIN:VEVENT
DTSTART;VALUE=DATE:20160731
DTEND;VALUE=DATE:20160807
DTSTAMP:20260421T084823
CREATED:20160727T191120Z
LAST-MODIFIED:20160727T191120Z
UID:5956-1469923200-1470527999@lacdrolet.ca
SUMMARY:Bureau municipal fermé
DESCRIPTION:Veuillez prendre note que le bureau municipal est fermé pour la période de vacances estivales du 31 juillet au 6 août. \nPour signaler un bris d’aqueduc ou un refoulement d’égout\, veuillez laisser un message sur notre pagette d’urgence au 819-583-8833. Un employé municipal communiquera avec vous. \nPour une vidange de votre fosse septique\, veuillez communiquer avec la MRC du Granit au 819-583-0181.
URL:https://lacdrolet.ca/event/bureau-municipal-ferme/
LOCATION:Québec
END:VEVENT
BEGIN:VEVENT
DTSTART;TZID=America/Toronto:20160713T040000
DTEND;TZID=America/Toronto:20160713T170000
DTSTAMP:20260421T084823
CREATED:20160629T182055Z
LAST-MODIFIED:20160630T203546Z
UID:5370-1468382400-1468429200@lacdrolet.ca
SUMMARY:Collecte des ordures
DESCRIPTION:
URL:https://lacdrolet.ca/event/collecte-des-ordures/2016-07-13/
LOCATION:Québec
CATEGORIES:Collecte des ordures
END:VEVENT
BEGIN:VEVENT
DTSTART;TZID=America/Toronto:20160709T080000
DTEND;TZID=America/Toronto:20160709T170000
DTSTAMP:20260421T084823
CREATED:20160708T194922Z
LAST-MODIFIED:20160708T195221Z
UID:5832-1468051200-1468083600@lacdrolet.ca
SUMMARY:Collecte des encombrants
DESCRIPTION:
URL:https://lacdrolet.ca/event/test1/
LOCATION:Québec
CATEGORIES:Collecte des encombrants
END:VEVENT
BEGIN:VEVENT
DTSTART;TZID=America/Toronto:20160708T040000
DTEND;TZID=America/Toronto:20160708T170000
DTSTAMP:20260421T084823
CREATED:20160704T161007Z
LAST-MODIFIED:20160704T161007Z
UID:5500-1467950400-1467997200@lacdrolet.ca
SUMMARY:Collecte des matières recyclables
DESCRIPTION:
URL:https://lacdrolet.ca/event/collecte-des-matieres-recyclables/2016-07-08/
LOCATION:Québec
CATEGORIES:Collecte des matières recyclables
END:VEVENT
END:VCALENDAR