BEGIN:VCALENDAR
VERSION:2.0
PRODID:-//Municipalité Lac-Drolet - ECPv6.15.14//NONSGML v1.0//EN
CALSCALE:GREGORIAN
METHOD:PUBLISH
X-ORIGINAL-URL:https://lacdrolet.ca
X-WR-CALDESC:Évènements pour Municipalité Lac-Drolet
REFRESH-INTERVAL;VALUE=DURATION:PT1H
X-Robots-Tag:noindex
X-PUBLISHED-TTL:PT1H
BEGIN:VTIMEZONE
TZID:America/Toronto
BEGIN:DAYLIGHT
TZOFFSETFROM:-0500
TZOFFSETTO:-0400
TZNAME:EDT
DTSTART:20230312T070000
END:DAYLIGHT
BEGIN:STANDARD
TZOFFSETFROM:-0400
TZOFFSETTO:-0500
TZNAME:EST
DTSTART:20231105T060000
END:STANDARD
BEGIN:DAYLIGHT
TZOFFSETFROM:-0500
TZOFFSETTO:-0400
TZNAME:EDT
DTSTART:20240310T070000
END:DAYLIGHT
BEGIN:STANDARD
TZOFFSETFROM:-0400
TZOFFSETTO:-0500
TZNAME:EST
DTSTART:20241103T060000
END:STANDARD
BEGIN:DAYLIGHT
TZOFFSETFROM:-0500
TZOFFSETTO:-0400
TZNAME:EDT
DTSTART:20250309T070000
END:DAYLIGHT
BEGIN:STANDARD
TZOFFSETFROM:-0400
TZOFFSETTO:-0500
TZNAME:EST
DTSTART:20251102T060000
END:STANDARD
END:VTIMEZONE
BEGIN:VEVENT
DTSTART;TZID=America/Toronto:20240801T080000
DTEND;TZID=America/Toronto:20240801T153000
DTSTAMP:20260420T162412
CREATED:20240129T211029Z
LAST-MODIFIED:20240129T211029Z
UID:8620-1722499200-1722526200@lacdrolet.ca
SUMMARY:Transport collectif du Granit
DESCRIPTION:
URL:https://lacdrolet.ca/event/transport-collectif-du-granit/2024-08-01/
CATEGORIES:Transport collectif du Granit
ATTACH;FMTTYPE=image/png:https://lacdrolet.ca/wp-content/uploads/2024/01/tcg_couleur.png
END:VEVENT
BEGIN:VEVENT
DTSTART;TZID=America/Toronto:20240729T080000
DTEND;TZID=America/Toronto:20240729T153000
DTSTAMP:20260420T162412
CREATED:20240129T211029Z
LAST-MODIFIED:20240129T211029Z
UID:8619-1722240000-1722267000@lacdrolet.ca
SUMMARY:Transport collectif du Granit
DESCRIPTION:
URL:https://lacdrolet.ca/event/transport-collectif-du-granit/2024-07-29/
CATEGORIES:Transport collectif du Granit
ATTACH;FMTTYPE=image/png:https://lacdrolet.ca/wp-content/uploads/2024/01/tcg_couleur.png
END:VEVENT
BEGIN:VEVENT
DTSTART;TZID=America/Toronto:20240725T080000
DTEND;TZID=America/Toronto:20240725T153000
DTSTAMP:20260420T162412
CREATED:20240129T211029Z
LAST-MODIFIED:20240129T211029Z
UID:8618-1721894400-1721921400@lacdrolet.ca
SUMMARY:Transport collectif du Granit
DESCRIPTION:
URL:https://lacdrolet.ca/event/transport-collectif-du-granit/2024-07-25/
CATEGORIES:Transport collectif du Granit
ATTACH;FMTTYPE=image/png:https://lacdrolet.ca/wp-content/uploads/2024/01/tcg_couleur.png
END:VEVENT
BEGIN:VEVENT
DTSTART;TZID=America/Toronto:20240722T080000
DTEND;TZID=America/Toronto:20240722T153000
DTSTAMP:20260420T162412
CREATED:20240129T211029Z
LAST-MODIFIED:20240129T211029Z
UID:8617-1721635200-1721662200@lacdrolet.ca
SUMMARY:Transport collectif du Granit
DESCRIPTION:
URL:https://lacdrolet.ca/event/transport-collectif-du-granit/2024-07-22/
CATEGORIES:Transport collectif du Granit
ATTACH;FMTTYPE=image/png:https://lacdrolet.ca/wp-content/uploads/2024/01/tcg_couleur.png
END:VEVENT
BEGIN:VEVENT
DTSTART;TZID=America/Toronto:20240718T080000
DTEND;TZID=America/Toronto:20240718T153000
DTSTAMP:20260420T162412
CREATED:20240129T211029Z
LAST-MODIFIED:20240129T211029Z
UID:8616-1721289600-1721316600@lacdrolet.ca
SUMMARY:Transport collectif du Granit
DESCRIPTION:
URL:https://lacdrolet.ca/event/transport-collectif-du-granit/2024-07-18/
CATEGORIES:Transport collectif du Granit
ATTACH;FMTTYPE=image/png:https://lacdrolet.ca/wp-content/uploads/2024/01/tcg_couleur.png
END:VEVENT
BEGIN:VEVENT
DTSTART;TZID=America/Toronto:20240715T080000
DTEND;TZID=America/Toronto:20240715T153000
DTSTAMP:20260420T162412
CREATED:20240129T211029Z
LAST-MODIFIED:20240129T211029Z
UID:8615-1721030400-1721057400@lacdrolet.ca
SUMMARY:Transport collectif du Granit
DESCRIPTION:
URL:https://lacdrolet.ca/event/transport-collectif-du-granit/2024-07-15/
CATEGORIES:Transport collectif du Granit
ATTACH;FMTTYPE=image/png:https://lacdrolet.ca/wp-content/uploads/2024/01/tcg_couleur.png
END:VEVENT
BEGIN:VEVENT
DTSTART;TZID=America/Toronto:20240711T080000
DTEND;TZID=America/Toronto:20240711T153000
DTSTAMP:20260420T162412
CREATED:20240129T211029Z
LAST-MODIFIED:20240129T211029Z
UID:8614-1720684800-1720711800@lacdrolet.ca
SUMMARY:Transport collectif du Granit
DESCRIPTION:
URL:https://lacdrolet.ca/event/transport-collectif-du-granit/2024-07-11/
CATEGORIES:Transport collectif du Granit
ATTACH;FMTTYPE=image/png:https://lacdrolet.ca/wp-content/uploads/2024/01/tcg_couleur.png
END:VEVENT
BEGIN:VEVENT
DTSTART;TZID=America/Toronto:20240708T080000
DTEND;TZID=America/Toronto:20240708T153000
DTSTAMP:20260420T162412
CREATED:20240129T211029Z
LAST-MODIFIED:20240129T211029Z
UID:8613-1720425600-1720452600@lacdrolet.ca
SUMMARY:Transport collectif du Granit
DESCRIPTION:
URL:https://lacdrolet.ca/event/transport-collectif-du-granit/2024-07-08/
CATEGORIES:Transport collectif du Granit
ATTACH;FMTTYPE=image/png:https://lacdrolet.ca/wp-content/uploads/2024/01/tcg_couleur.png
END:VEVENT
BEGIN:VEVENT
DTSTART;TZID=America/Toronto:20240704T080000
DTEND;TZID=America/Toronto:20240704T153000
DTSTAMP:20260420T162412
CREATED:20240129T211029Z
LAST-MODIFIED:20240129T211029Z
UID:8612-1720080000-1720107000@lacdrolet.ca
SUMMARY:Transport collectif du Granit
DESCRIPTION:
URL:https://lacdrolet.ca/event/transport-collectif-du-granit/2024-07-04/
CATEGORIES:Transport collectif du Granit
ATTACH;FMTTYPE=image/png:https://lacdrolet.ca/wp-content/uploads/2024/01/tcg_couleur.png
END:VEVENT
BEGIN:VEVENT
DTSTART;TZID=America/Toronto:20240701T080000
DTEND;TZID=America/Toronto:20240701T153000
DTSTAMP:20260420T162412
CREATED:20240129T211029Z
LAST-MODIFIED:20240129T211029Z
UID:8611-1719820800-1719847800@lacdrolet.ca
SUMMARY:Transport collectif du Granit
DESCRIPTION:
URL:https://lacdrolet.ca/event/transport-collectif-du-granit/2024-07-01/
CATEGORIES:Transport collectif du Granit
ATTACH;FMTTYPE=image/png:https://lacdrolet.ca/wp-content/uploads/2024/01/tcg_couleur.png
END:VEVENT
BEGIN:VEVENT
DTSTART;TZID=America/Toronto:20240627T080000
DTEND;TZID=America/Toronto:20240627T153000
DTSTAMP:20260420T162412
CREATED:20240129T211029Z
LAST-MODIFIED:20240129T211029Z
UID:8610-1719475200-1719502200@lacdrolet.ca
SUMMARY:Transport collectif du Granit
DESCRIPTION:
URL:https://lacdrolet.ca/event/transport-collectif-du-granit/2024-06-27/
CATEGORIES:Transport collectif du Granit
ATTACH;FMTTYPE=image/png:https://lacdrolet.ca/wp-content/uploads/2024/01/tcg_couleur.png
END:VEVENT
BEGIN:VEVENT
DTSTART;TZID=America/Toronto:20240624T080000
DTEND;TZID=America/Toronto:20240624T153000
DTSTAMP:20260420T162412
CREATED:20240129T211029Z
LAST-MODIFIED:20240129T211029Z
UID:8609-1719216000-1719243000@lacdrolet.ca
SUMMARY:Transport collectif du Granit
DESCRIPTION:
URL:https://lacdrolet.ca/event/transport-collectif-du-granit/2024-06-24/
CATEGORIES:Transport collectif du Granit
ATTACH;FMTTYPE=image/png:https://lacdrolet.ca/wp-content/uploads/2024/01/tcg_couleur.png
END:VEVENT
BEGIN:VEVENT
DTSTART;TZID=America/Toronto:20240620T080000
DTEND;TZID=America/Toronto:20240620T153000
DTSTAMP:20260420T162412
CREATED:20240129T211029Z
LAST-MODIFIED:20240129T211029Z
UID:8608-1718870400-1718897400@lacdrolet.ca
SUMMARY:Transport collectif du Granit
DESCRIPTION:
URL:https://lacdrolet.ca/event/transport-collectif-du-granit/2024-06-20/
CATEGORIES:Transport collectif du Granit
ATTACH;FMTTYPE=image/png:https://lacdrolet.ca/wp-content/uploads/2024/01/tcg_couleur.png
END:VEVENT
BEGIN:VEVENT
DTSTART;TZID=America/Toronto:20240617T080000
DTEND;TZID=America/Toronto:20240617T153000
DTSTAMP:20260420T162412
CREATED:20240129T211029Z
LAST-MODIFIED:20240129T211029Z
UID:8607-1718611200-1718638200@lacdrolet.ca
SUMMARY:Transport collectif du Granit
DESCRIPTION:
URL:https://lacdrolet.ca/event/transport-collectif-du-granit/2024-06-17/
CATEGORIES:Transport collectif du Granit
ATTACH;FMTTYPE=image/png:https://lacdrolet.ca/wp-content/uploads/2024/01/tcg_couleur.png
END:VEVENT
BEGIN:VEVENT
DTSTART;TZID=America/Toronto:20240613T080000
DTEND;TZID=America/Toronto:20240613T153000
DTSTAMP:20260420T162412
CREATED:20240129T211029Z
LAST-MODIFIED:20240129T211029Z
UID:8606-1718265600-1718292600@lacdrolet.ca
SUMMARY:Transport collectif du Granit
DESCRIPTION:
URL:https://lacdrolet.ca/event/transport-collectif-du-granit/2024-06-13/
CATEGORIES:Transport collectif du Granit
ATTACH;FMTTYPE=image/png:https://lacdrolet.ca/wp-content/uploads/2024/01/tcg_couleur.png
END:VEVENT
BEGIN:VEVENT
DTSTART;TZID=America/Toronto:20240610T080000
DTEND;TZID=America/Toronto:20240610T153000
DTSTAMP:20260420T162412
CREATED:20240129T211029Z
LAST-MODIFIED:20240129T211029Z
UID:8605-1718006400-1718033400@lacdrolet.ca
SUMMARY:Transport collectif du Granit
DESCRIPTION:
URL:https://lacdrolet.ca/event/transport-collectif-du-granit/2024-06-10/
CATEGORIES:Transport collectif du Granit
ATTACH;FMTTYPE=image/png:https://lacdrolet.ca/wp-content/uploads/2024/01/tcg_couleur.png
END:VEVENT
BEGIN:VEVENT
DTSTART;TZID=America/Toronto:20240606T080000
DTEND;TZID=America/Toronto:20240606T153000
DTSTAMP:20260420T162412
CREATED:20240129T211029Z
LAST-MODIFIED:20240129T211029Z
UID:8604-1717660800-1717687800@lacdrolet.ca
SUMMARY:Transport collectif du Granit
DESCRIPTION:
URL:https://lacdrolet.ca/event/transport-collectif-du-granit/2024-06-06/
CATEGORIES:Transport collectif du Granit
ATTACH;FMTTYPE=image/png:https://lacdrolet.ca/wp-content/uploads/2024/01/tcg_couleur.png
END:VEVENT
BEGIN:VEVENT
DTSTART;TZID=America/Toronto:20240603T080000
DTEND;TZID=America/Toronto:20240603T153000
DTSTAMP:20260420T162412
CREATED:20240129T211029Z
LAST-MODIFIED:20240129T211029Z
UID:8603-1717401600-1717428600@lacdrolet.ca
SUMMARY:Transport collectif du Granit
DESCRIPTION:
URL:https://lacdrolet.ca/event/transport-collectif-du-granit/2024-06-03/
CATEGORIES:Transport collectif du Granit
ATTACH;FMTTYPE=image/png:https://lacdrolet.ca/wp-content/uploads/2024/01/tcg_couleur.png
END:VEVENT
BEGIN:VEVENT
DTSTART;TZID=America/Toronto:20240530T080000
DTEND;TZID=America/Toronto:20240530T153000
DTSTAMP:20260420T162412
CREATED:20240129T211029Z
LAST-MODIFIED:20240129T211029Z
UID:8602-1717056000-1717083000@lacdrolet.ca
SUMMARY:Transport collectif du Granit
DESCRIPTION:
URL:https://lacdrolet.ca/event/transport-collectif-du-granit/2024-05-30/
CATEGORIES:Transport collectif du Granit
ATTACH;FMTTYPE=image/png:https://lacdrolet.ca/wp-content/uploads/2024/01/tcg_couleur.png
END:VEVENT
BEGIN:VEVENT
DTSTART;TZID=America/Toronto:20240527T080000
DTEND;TZID=America/Toronto:20240527T153000
DTSTAMP:20260420T162412
CREATED:20240129T211029Z
LAST-MODIFIED:20240129T211029Z
UID:8601-1716796800-1716823800@lacdrolet.ca
SUMMARY:Transport collectif du Granit
DESCRIPTION:
URL:https://lacdrolet.ca/event/transport-collectif-du-granit/2024-05-27/
CATEGORIES:Transport collectif du Granit
ATTACH;FMTTYPE=image/png:https://lacdrolet.ca/wp-content/uploads/2024/01/tcg_couleur.png
END:VEVENT
BEGIN:VEVENT
DTSTART;TZID=America/Toronto:20240523T080000
DTEND;TZID=America/Toronto:20240523T153000
DTSTAMP:20260420T162412
CREATED:20240129T211029Z
LAST-MODIFIED:20240129T211029Z
UID:8600-1716451200-1716478200@lacdrolet.ca
SUMMARY:Transport collectif du Granit
DESCRIPTION:
URL:https://lacdrolet.ca/event/transport-collectif-du-granit/2024-05-23/
CATEGORIES:Transport collectif du Granit
ATTACH;FMTTYPE=image/png:https://lacdrolet.ca/wp-content/uploads/2024/01/tcg_couleur.png
END:VEVENT
BEGIN:VEVENT
DTSTART;TZID=America/Toronto:20240520T080000
DTEND;TZID=America/Toronto:20240520T153000
DTSTAMP:20260420T162412
CREATED:20240129T211029Z
LAST-MODIFIED:20240129T211029Z
UID:8599-1716192000-1716219000@lacdrolet.ca
SUMMARY:Transport collectif du Granit
DESCRIPTION:
URL:https://lacdrolet.ca/event/transport-collectif-du-granit/2024-05-20/
CATEGORIES:Transport collectif du Granit
ATTACH;FMTTYPE=image/png:https://lacdrolet.ca/wp-content/uploads/2024/01/tcg_couleur.png
END:VEVENT
BEGIN:VEVENT
DTSTART;TZID=America/Toronto:20240516T080000
DTEND;TZID=America/Toronto:20240516T153000
DTSTAMP:20260420T162412
CREATED:20240129T211029Z
LAST-MODIFIED:20240129T211029Z
UID:8598-1715846400-1715873400@lacdrolet.ca
SUMMARY:Transport collectif du Granit
DESCRIPTION:
URL:https://lacdrolet.ca/event/transport-collectif-du-granit/2024-05-16/
CATEGORIES:Transport collectif du Granit
ATTACH;FMTTYPE=image/png:https://lacdrolet.ca/wp-content/uploads/2024/01/tcg_couleur.png
END:VEVENT
BEGIN:VEVENT
DTSTART;TZID=America/Toronto:20240513T080000
DTEND;TZID=America/Toronto:20240513T153000
DTSTAMP:20260420T162412
CREATED:20240129T211029Z
LAST-MODIFIED:20240129T211029Z
UID:8597-1715587200-1715614200@lacdrolet.ca
SUMMARY:Transport collectif du Granit
DESCRIPTION:
URL:https://lacdrolet.ca/event/transport-collectif-du-granit/2024-05-13/
CATEGORIES:Transport collectif du Granit
ATTACH;FMTTYPE=image/png:https://lacdrolet.ca/wp-content/uploads/2024/01/tcg_couleur.png
END:VEVENT
BEGIN:VEVENT
DTSTART;TZID=America/Toronto:20240509T080000
DTEND;TZID=America/Toronto:20240509T153000
DTSTAMP:20260420T162412
CREATED:20240129T211029Z
LAST-MODIFIED:20240129T211029Z
UID:8596-1715241600-1715268600@lacdrolet.ca
SUMMARY:Transport collectif du Granit
DESCRIPTION:
URL:https://lacdrolet.ca/event/transport-collectif-du-granit/2024-05-09/
CATEGORIES:Transport collectif du Granit
ATTACH;FMTTYPE=image/png:https://lacdrolet.ca/wp-content/uploads/2024/01/tcg_couleur.png
END:VEVENT
BEGIN:VEVENT
DTSTART;TZID=America/Toronto:20240506T080000
DTEND;TZID=America/Toronto:20240506T153000
DTSTAMP:20260420T162412
CREATED:20240129T211029Z
LAST-MODIFIED:20240129T211029Z
UID:8595-1714982400-1715009400@lacdrolet.ca
SUMMARY:Transport collectif du Granit
DESCRIPTION:
URL:https://lacdrolet.ca/event/transport-collectif-du-granit/2024-05-06/
CATEGORIES:Transport collectif du Granit
ATTACH;FMTTYPE=image/png:https://lacdrolet.ca/wp-content/uploads/2024/01/tcg_couleur.png
END:VEVENT
BEGIN:VEVENT
DTSTART;TZID=America/Toronto:20240502T080000
DTEND;TZID=America/Toronto:20240502T153000
DTSTAMP:20260420T162412
CREATED:20240129T211029Z
LAST-MODIFIED:20240129T211029Z
UID:8594-1714636800-1714663800@lacdrolet.ca
SUMMARY:Transport collectif du Granit
DESCRIPTION:
URL:https://lacdrolet.ca/event/transport-collectif-du-granit/2024-05-02/
CATEGORIES:Transport collectif du Granit
ATTACH;FMTTYPE=image/png:https://lacdrolet.ca/wp-content/uploads/2024/01/tcg_couleur.png
END:VEVENT
BEGIN:VEVENT
DTSTART;TZID=America/Toronto:20240429T080000
DTEND;TZID=America/Toronto:20240429T153000
DTSTAMP:20260420T162412
CREATED:20240129T211029Z
LAST-MODIFIED:20240129T211029Z
UID:8593-1714377600-1714404600@lacdrolet.ca
SUMMARY:Transport collectif du Granit
DESCRIPTION:
URL:https://lacdrolet.ca/event/transport-collectif-du-granit/2024-04-29/
CATEGORIES:Transport collectif du Granit
ATTACH;FMTTYPE=image/png:https://lacdrolet.ca/wp-content/uploads/2024/01/tcg_couleur.png
END:VEVENT
BEGIN:VEVENT
DTSTART;TZID=America/Toronto:20240425T080000
DTEND;TZID=America/Toronto:20240425T153000
DTSTAMP:20260420T162412
CREATED:20240129T211029Z
LAST-MODIFIED:20240129T211029Z
UID:8592-1714032000-1714059000@lacdrolet.ca
SUMMARY:Transport collectif du Granit
DESCRIPTION:
URL:https://lacdrolet.ca/event/transport-collectif-du-granit/2024-04-25/
CATEGORIES:Transport collectif du Granit
ATTACH;FMTTYPE=image/png:https://lacdrolet.ca/wp-content/uploads/2024/01/tcg_couleur.png
END:VEVENT
BEGIN:VEVENT
DTSTART;TZID=America/Toronto:20240422T080000
DTEND;TZID=America/Toronto:20240422T153000
DTSTAMP:20260420T162412
CREATED:20240129T211029Z
LAST-MODIFIED:20240129T211029Z
UID:8591-1713772800-1713799800@lacdrolet.ca
SUMMARY:Transport collectif du Granit
DESCRIPTION:
URL:https://lacdrolet.ca/event/transport-collectif-du-granit/2024-04-22/
CATEGORIES:Transport collectif du Granit
ATTACH;FMTTYPE=image/png:https://lacdrolet.ca/wp-content/uploads/2024/01/tcg_couleur.png
END:VEVENT
END:VCALENDAR