BEGIN:VCALENDAR
VERSION:2.0
PRODID:-//Municipalité Lac-Drolet - ECPv6.15.14//NONSGML v1.0//EN
CALSCALE:GREGORIAN
METHOD:PUBLISH
X-WR-CALNAME:Municipalité Lac-Drolet
X-ORIGINAL-URL:https://lacdrolet.ca
X-WR-CALDESC:Évènements pour Municipalité Lac-Drolet
REFRESH-INTERVAL;VALUE=DURATION:PT1H
X-Robots-Tag:noindex
X-PUBLISHED-TTL:PT1H
BEGIN:VTIMEZONE
TZID:America/Toronto
BEGIN:DAYLIGHT
TZOFFSETFROM:-0500
TZOFFSETTO:-0400
TZNAME:EDT
DTSTART:20250309T070000
END:DAYLIGHT
BEGIN:STANDARD
TZOFFSETFROM:-0400
TZOFFSETTO:-0500
TZNAME:EST
DTSTART:20251102T060000
END:STANDARD
BEGIN:DAYLIGHT
TZOFFSETFROM:-0500
TZOFFSETTO:-0400
TZNAME:EDT
DTSTART:20260308T070000
END:DAYLIGHT
BEGIN:STANDARD
TZOFFSETFROM:-0400
TZOFFSETTO:-0500
TZNAME:EST
DTSTART:20261101T060000
END:STANDARD
BEGIN:DAYLIGHT
TZOFFSETFROM:-0500
TZOFFSETTO:-0400
TZNAME:EDT
DTSTART:20270314T070000
END:DAYLIGHT
BEGIN:STANDARD
TZOFFSETFROM:-0400
TZOFFSETTO:-0500
TZNAME:EST
DTSTART:20271107T060000
END:STANDARD
END:VTIMEZONE
BEGIN:VEVENT
DTSTART;VALUE=DATE:20260710
DTEND;VALUE=DATE:20260711
DTSTAMP:20260420T010329
CREATED:20260112T135641Z
LAST-MODIFIED:20260112T135641Z
UID:8904-1783641600-1783727999@lacdrolet.ca
SUMMARY:Collecte de matières compostables et recyclables
DESCRIPTION:calendrier bacs \n 
URL:https://lacdrolet.ca/event/collecte-de-matieres-compostables-et-recyclables-16-2-2-2-2-2-2-2-2-2-2-2-2-2-2/
CATEGORIES:Collecte des matières compostables,Collecte des matières recyclables
END:VEVENT
BEGIN:VEVENT
DTSTART;VALUE=DATE:20260724
DTEND;VALUE=DATE:20260725
DTSTAMP:20260420T010329
CREATED:20260112T135705Z
LAST-MODIFIED:20260112T135705Z
UID:8906-1784851200-1784937599@lacdrolet.ca
SUMMARY:Collecte de matières compostables et recyclables
DESCRIPTION:calendrier bacs \n 
URL:https://lacdrolet.ca/event/collecte-de-matieres-compostables-et-recyclables-16-2-2-2-2-2-2-2-2-2-2-2-2-2-2-2/
CATEGORIES:Collecte des matières compostables,Collecte des matières recyclables
END:VEVENT
BEGIN:VEVENT
DTSTART;VALUE=DATE:20260807
DTEND;VALUE=DATE:20260808
DTSTAMP:20260420T010329
CREATED:20260112T135728Z
LAST-MODIFIED:20260112T135728Z
UID:8908-1786060800-1786147199@lacdrolet.ca
SUMMARY:Collecte de matières compostables et recyclables
DESCRIPTION:calendrier bacs \n 
URL:https://lacdrolet.ca/event/collecte-de-matieres-compostables-et-recyclables-16-2-2-2-2-2-2-2-2-2-2-2-2-2-2-2-2/
CATEGORIES:Collecte des matières compostables,Collecte des matières recyclables
END:VEVENT
BEGIN:VEVENT
DTSTART;VALUE=DATE:20260821
DTEND;VALUE=DATE:20260822
DTSTAMP:20260420T010329
CREATED:20260112T135751Z
LAST-MODIFIED:20260112T135751Z
UID:8910-1787270400-1787356799@lacdrolet.ca
SUMMARY:Collecte de matières compostables et recyclables
DESCRIPTION:calendrier bacs \n 
URL:https://lacdrolet.ca/event/collecte-de-matieres-compostables-et-recyclables-16-2-2-2-2-2-2-2-2-2-2-2-2-2-2-2-2-2/
CATEGORIES:Collecte des matières compostables,Collecte des matières recyclables
END:VEVENT
BEGIN:VEVENT
DTSTART;VALUE=DATE:20260904
DTEND;VALUE=DATE:20260905
DTSTAMP:20260420T010329
CREATED:20260112T135818Z
LAST-MODIFIED:20260112T135818Z
UID:8912-1788480000-1788566399@lacdrolet.ca
SUMMARY:Collecte de matières compostables et recyclables
DESCRIPTION:calendrier bacs \n 
URL:https://lacdrolet.ca/event/collecte-de-matieres-compostables-et-recyclables-16-2-2-2-2-2-2-2-2-2-2-2-2-2-2-2-2-2-2/
CATEGORIES:Collecte des matières compostables,Collecte des matières recyclables
END:VEVENT
BEGIN:VEVENT
DTSTART;VALUE=DATE:20260918
DTEND;VALUE=DATE:20260919
DTSTAMP:20260420T010329
CREATED:20260112T135849Z
LAST-MODIFIED:20260112T135849Z
UID:8914-1789689600-1789775999@lacdrolet.ca
SUMMARY:Collecte de matières compostables et recyclables
DESCRIPTION:calendrier bacs \n 
URL:https://lacdrolet.ca/event/collecte-de-matieres-compostables-et-recyclables-16-2-2-2-2-2-2-2-2-2-2-2-2-2-2-2-2-2-2-2/
CATEGORIES:Collecte des matières compostables,Collecte des matières recyclables
END:VEVENT
BEGIN:VEVENT
DTSTART;VALUE=DATE:20261002
DTEND;VALUE=DATE:20261003
DTSTAMP:20260420T010329
CREATED:20260112T135926Z
LAST-MODIFIED:20260112T135926Z
UID:8916-1790899200-1790985599@lacdrolet.ca
SUMMARY:Collecte de matières compostables et recyclables
DESCRIPTION:calendrier bacs \n 
URL:https://lacdrolet.ca/event/collecte-de-matieres-compostables-et-recyclables-16-2-2-2-2-2-2-2-2-2-2-2-2-2-2-2-2-2-2-2-2/
CATEGORIES:Collecte des matières compostables,Collecte des matières recyclables
END:VEVENT
BEGIN:VEVENT
DTSTART;VALUE=DATE:20261016
DTEND;VALUE=DATE:20261017
DTSTAMP:20260420T010329
CREATED:20260112T135948Z
LAST-MODIFIED:20260112T135948Z
UID:8918-1792108800-1792195199@lacdrolet.ca
SUMMARY:Collecte de matières compostables et recyclables
DESCRIPTION:calendrier bacs \n 
URL:https://lacdrolet.ca/event/collecte-de-matieres-compostables-et-recyclables-16-2-2-2-2-2-2-2-2-2-2-2-2-2-2-2-2-2-2-2-2-2/
CATEGORIES:Collecte des matières compostables,Collecte des matières recyclables
END:VEVENT
BEGIN:VEVENT
DTSTART;VALUE=DATE:20261030
DTEND;VALUE=DATE:20261031
DTSTAMP:20260420T010329
CREATED:20260112T140015Z
LAST-MODIFIED:20260112T140015Z
UID:8920-1793318400-1793404799@lacdrolet.ca
SUMMARY:Collecte de matières compostables et recyclables
DESCRIPTION:calendrier bacs \n 
URL:https://lacdrolet.ca/event/collecte-de-matieres-compostables-et-recyclables-16-2-2-2-2-2-2-2-2-2-2-2-2-2-2-2-2-2-2-2-2-2-2/
CATEGORIES:Collecte des matières compostables,Collecte des matières recyclables
END:VEVENT
BEGIN:VEVENT
DTSTART;VALUE=DATE:20261127
DTEND;VALUE=DATE:20261128
DTSTAMP:20260420T010329
CREATED:20260112T140116Z
LAST-MODIFIED:20260112T140116Z
UID:8922-1795737600-1795823999@lacdrolet.ca
SUMMARY:Collecte de matières compostables et recyclables
DESCRIPTION:calendrier bacs \n 
URL:https://lacdrolet.ca/event/collecte-de-matieres-compostables-et-recyclables-16-2-2-2-2-2-2-2-2-2-2-2-2-2-2-2-2-2-2-2-2-2-2-2/
CATEGORIES:Collecte des matières compostables,Collecte des matières recyclables
END:VEVENT
BEGIN:VEVENT
DTSTART;VALUE=DATE:20261228
DTEND;VALUE=DATE:20261229
DTSTAMP:20260420T010329
CREATED:20260112T142321Z
LAST-MODIFIED:20260112T142321Z
UID:5829-1798416000-1798502399@lacdrolet.ca
SUMMARY:Collecte des matières compostables
DESCRIPTION:
URL:https://lacdrolet.ca/event/collecte-des-matieres-compostables-4/
CATEGORIES:Collecte des matières compostables
END:VEVENT
END:VCALENDAR