BEGIN:VCALENDAR
VERSION:2.0
PRODID:-//Municipalité Lac-Drolet - ECPv6.15.14//NONSGML v1.0//EN
CALSCALE:GREGORIAN
METHOD:PUBLISH
X-WR-CALNAME:Municipalité Lac-Drolet
X-ORIGINAL-URL:https://lacdrolet.ca
X-WR-CALDESC:Évènements pour Municipalité Lac-Drolet
REFRESH-INTERVAL;VALUE=DURATION:PT1H
X-Robots-Tag:noindex
X-PUBLISHED-TTL:PT1H
BEGIN:VTIMEZONE
TZID:America/Toronto
BEGIN:DAYLIGHT
TZOFFSETFROM:-0500
TZOFFSETTO:-0400
TZNAME:EDT
DTSTART:20170312T070000
END:DAYLIGHT
BEGIN:STANDARD
TZOFFSETFROM:-0400
TZOFFSETTO:-0500
TZNAME:EST
DTSTART:20171105T060000
END:STANDARD
BEGIN:DAYLIGHT
TZOFFSETFROM:-0500
TZOFFSETTO:-0400
TZNAME:EDT
DTSTART:20180311T070000
END:DAYLIGHT
BEGIN:STANDARD
TZOFFSETFROM:-0400
TZOFFSETTO:-0500
TZNAME:EST
DTSTART:20181104T060000
END:STANDARD
BEGIN:DAYLIGHT
TZOFFSETFROM:-0500
TZOFFSETTO:-0400
TZNAME:EDT
DTSTART:20190310T070000
END:DAYLIGHT
BEGIN:STANDARD
TZOFFSETFROM:-0400
TZOFFSETTO:-0500
TZNAME:EST
DTSTART:20191103T060000
END:STANDARD
END:VTIMEZONE
BEGIN:VEVENT
DTSTART;TZID=America/Toronto:20180202T040000
DTEND;TZID=America/Toronto:20180202T170000
DTSTAMP:20260419T235659
CREATED:20180122T164439Z
LAST-MODIFIED:20180122T164439Z
UID:7248-1517544000-1517590800@lacdrolet.ca
SUMMARY:Collecte des matières compostables
DESCRIPTION:
URL:https://lacdrolet.ca/event/collecte-des-matieres-compostables-3/
CATEGORIES:Collecte des matières compostables
END:VEVENT
BEGIN:VEVENT
DTSTART;TZID=America/Toronto:20180202T040000
DTEND;TZID=America/Toronto:20180202T170000
DTSTAMP:20260419T235659
CREATED:20160704T161007Z
LAST-MODIFIED:20180202T143413Z
UID:7081-1517544000-1517590800@lacdrolet.ca
SUMMARY:Collecte des matières recyclables
DESCRIPTION:
URL:https://lacdrolet.ca/event/collecte-des-matieres-recyclables-2019-12-27/
CATEGORIES:Collecte des matières recyclables
END:VEVENT
BEGIN:VEVENT
DTSTART;TZID=America/Toronto:20180207T040000
DTEND;TZID=America/Toronto:20180207T170000
DTSTAMP:20260419T235659
CREATED:20180122T165533Z
LAST-MODIFIED:20180122T165533Z
UID:7250-1517976000-1518022800@lacdrolet.ca
SUMMARY:Collecte des ordures
DESCRIPTION:
URL:https://lacdrolet.ca/event/collecte-des-ordures-3/
CATEGORIES:Collecte des ordures
END:VEVENT
BEGIN:VEVENT
DTSTART;TZID=America/Toronto:20180216T040000
DTEND;TZID=America/Toronto:20180216T170000
DTSTAMP:20260419T235659
CREATED:20180122T165627Z
LAST-MODIFIED:20180122T165627Z
UID:7252-1518753600-1518800400@lacdrolet.ca
SUMMARY:Collecte des matières recyclables
DESCRIPTION:
URL:https://lacdrolet.ca/event/collecte-des-matieres-recyclables-2/
CATEGORIES:Collecte des matières recyclables
END:VEVENT
BEGIN:VEVENT
DTSTART;VALUE=DATE:20180302
DTEND;VALUE=DATE:20180303
DTSTAMP:20260419T235659
CREATED:20180309T141447Z
LAST-MODIFIED:20180309T141447Z
UID:7358-1519948800-1520035199@lacdrolet.ca
SUMMARY:Collecte de matières compostables et recyclables
DESCRIPTION:
URL:https://lacdrolet.ca/event/collecte-de-matieres-compostables-et-recyclables-19/
CATEGORIES:Collecte des matières compostables,Collecte des matières recyclables
END:VEVENT
BEGIN:VEVENT
DTSTART;VALUE=DATE:20180307
DTEND;VALUE=DATE:20180308
DTSTAMP:20260419T235659
CREATED:20180309T141340Z
LAST-MODIFIED:20180309T141340Z
UID:7356-1520380800-1520467199@lacdrolet.ca
SUMMARY:Collecte des ordures
DESCRIPTION:
URL:https://lacdrolet.ca/event/collecte-des-ordures-18/
CATEGORIES:Collecte des ordures
END:VEVENT
BEGIN:VEVENT
DTSTART;VALUE=DATE:20180316
DTEND;VALUE=DATE:20180317
DTSTAMP:20260419T235659
CREATED:20180308T214215Z
LAST-MODIFIED:20180308T214626Z
UID:7311-1521158400-1521244799@lacdrolet.ca
SUMMARY:Collecte des matières recyclables
DESCRIPTION:
URL:https://lacdrolet.ca/event/collecte-des-matieres-recyclables-3/
CATEGORIES:Collecte des matières recyclables
END:VEVENT
BEGIN:VEVENT
DTSTART;VALUE=DATE:20180330
DTEND;VALUE=DATE:20180331
DTSTAMP:20260419T235659
CREATED:20180308T214358Z
LAST-MODIFIED:20180308T214358Z
UID:7313-1522368000-1522454399@lacdrolet.ca
SUMMARY:Collecte de matières compostables et recyclables
DESCRIPTION:
URL:https://lacdrolet.ca/event/collecte-de-matieres-compostables-et-recyclables/
CATEGORIES:Collecte des matières compostables,Collecte des matières recyclables
END:VEVENT
BEGIN:VEVENT
DTSTART;VALUE=DATE:20180404
DTEND;VALUE=DATE:20180405
DTSTAMP:20260419T235659
CREATED:20180308T211520Z
LAST-MODIFIED:20180308T211520Z
UID:7283-1522800000-1522886399@lacdrolet.ca
SUMMARY:Collecte des ordures
DESCRIPTION:
URL:https://lacdrolet.ca/event/collecte-des-ordures-4/
CATEGORIES:Collecte des ordures
END:VEVENT
BEGIN:VEVENT
DTSTART;VALUE=DATE:20180413
DTEND;VALUE=DATE:20180414
DTSTAMP:20260419T235659
CREATED:20180308T214736Z
LAST-MODIFIED:20180308T214736Z
UID:7316-1523577600-1523663999@lacdrolet.ca
SUMMARY:Collecte de matières compostables et recyclables
DESCRIPTION:
URL:https://lacdrolet.ca/event/collecte-de-matieres-compostables-et-recyclables-2/
CATEGORIES:Collecte des matières compostables,Collecte des matières recyclables
END:VEVENT
BEGIN:VEVENT
DTSTART;VALUE=DATE:20180427
DTEND;VALUE=DATE:20180428
DTSTAMP:20260419T235659
CREATED:20180308T214802Z
LAST-MODIFIED:20180308T214802Z
UID:7318-1524787200-1524873599@lacdrolet.ca
SUMMARY:Collecte de matières compostables et recyclables
DESCRIPTION:
URL:https://lacdrolet.ca/event/collecte-de-matieres-compostables-et-recyclables-3/
CATEGORIES:Collecte des matières compostables,Collecte des matières recyclables
END:VEVENT
BEGIN:VEVENT
DTSTART;VALUE=DATE:20180502
DTEND;VALUE=DATE:20180503
DTSTAMP:20260419T235659
CREATED:20180308T211638Z
LAST-MODIFIED:20180308T211638Z
UID:7285-1525219200-1525305599@lacdrolet.ca
SUMMARY:Collecte des ordures
DESCRIPTION:
URL:https://lacdrolet.ca/event/collecte-des-ordures-5/
CATEGORIES:Collecte des ordures
END:VEVENT
BEGIN:VEVENT
DTSTART;VALUE=DATE:20180511
DTEND;VALUE=DATE:20180512
DTSTAMP:20260419T235659
CREATED:20180308T214946Z
LAST-MODIFIED:20180308T214946Z
UID:7320-1525996800-1526083199@lacdrolet.ca
SUMMARY:Collecte de matières compostables et recyclables
DESCRIPTION:
URL:https://lacdrolet.ca/event/collecte-de-matieres-compostables-et-recyclables-4/
CATEGORIES:Collecte des matières compostables,Collecte des matières recyclables
END:VEVENT
BEGIN:VEVENT
DTSTART;VALUE=DATE:20180525
DTEND;VALUE=DATE:20180526
DTSTAMP:20260419T235659
CREATED:20180308T215132Z
LAST-MODIFIED:20180308T215132Z
UID:7322-1527206400-1527292799@lacdrolet.ca
SUMMARY:Collecte de matières compostables et recyclables
DESCRIPTION:
URL:https://lacdrolet.ca/event/collecte-de-matieres-compostables-et-recyclables-5/
CATEGORIES:Collecte des matières compostables,Collecte des matières recyclables
END:VEVENT
BEGIN:VEVENT
DTSTART;VALUE=DATE:20180530
DTEND;VALUE=DATE:20180531
DTSTAMP:20260419T235659
CREATED:20180308T211713Z
LAST-MODIFIED:20180308T211713Z
UID:7287-1527638400-1527724799@lacdrolet.ca
SUMMARY:Collecte des ordures
DESCRIPTION:
URL:https://lacdrolet.ca/event/collecte-des-ordures-6/
CATEGORIES:Collecte des ordures
END:VEVENT
BEGIN:VEVENT
DTSTART;VALUE=DATE:20180608
DTEND;VALUE=DATE:20180609
DTSTAMP:20260419T235659
CREATED:20180308T215203Z
LAST-MODIFIED:20180308T215203Z
UID:7324-1528416000-1528502399@lacdrolet.ca
SUMMARY:Collecte de matières compostables et recyclables
DESCRIPTION:
URL:https://lacdrolet.ca/event/collecte-de-matieres-compostables-et-recyclables-6/
CATEGORIES:Collecte des matières compostables,Collecte des matières recyclables
END:VEVENT
BEGIN:VEVENT
DTSTART;VALUE=DATE:20180613
DTEND;VALUE=DATE:20180614
DTSTAMP:20260419T235659
CREATED:20180308T211839Z
LAST-MODIFIED:20180308T211839Z
UID:7289-1528848000-1528934399@lacdrolet.ca
SUMMARY:Collecte des ordures
DESCRIPTION:
URL:https://lacdrolet.ca/event/collecte-des-ordures-7/
CATEGORIES:Collecte des ordures
END:VEVENT
BEGIN:VEVENT
DTSTART;VALUE=DATE:20180622
DTEND;VALUE=DATE:20180623
DTSTAMP:20260419T235659
CREATED:20180308T215232Z
LAST-MODIFIED:20180308T215232Z
UID:7326-1529625600-1529711999@lacdrolet.ca
SUMMARY:Collecte de matières compostables et recyclables
DESCRIPTION:
URL:https://lacdrolet.ca/event/collecte-de-matieres-compostables-et-recyclables-7/
CATEGORIES:Collecte des matières compostables,Collecte des matières recyclables
END:VEVENT
BEGIN:VEVENT
DTSTART;VALUE=DATE:20180627
DTEND;VALUE=DATE:20180628
DTSTAMP:20260419T235659
CREATED:20180308T211912Z
LAST-MODIFIED:20180308T211912Z
UID:7291-1530057600-1530143999@lacdrolet.ca
SUMMARY:Collecte des ordures
DESCRIPTION:
URL:https://lacdrolet.ca/event/collecte-des-ordures-8/
CATEGORIES:Collecte des ordures
END:VEVENT
BEGIN:VEVENT
DTSTART;VALUE=DATE:20180706
DTEND;VALUE=DATE:20180707
DTSTAMP:20260419T235659
CREATED:20180308T215426Z
LAST-MODIFIED:20180308T215426Z
UID:7328-1530835200-1530921599@lacdrolet.ca
SUMMARY:Collecte de matières compostables et recyclables
DESCRIPTION:
URL:https://lacdrolet.ca/event/collecte-de-matieres-compostables-et-recyclables-8/
CATEGORIES:Collecte des matières compostables,Collecte des matières recyclables
END:VEVENT
BEGIN:VEVENT
DTSTART;VALUE=DATE:20180711
DTEND;VALUE=DATE:20180712
DTSTAMP:20260419T235659
CREATED:20180308T211952Z
LAST-MODIFIED:20180308T212012Z
UID:7293-1531267200-1531353599@lacdrolet.ca
SUMMARY:Collecte des ordures
DESCRIPTION:
URL:https://lacdrolet.ca/event/collecte-des-ordures-9/
CATEGORIES:Collecte des ordures
END:VEVENT
BEGIN:VEVENT
DTSTART;VALUE=DATE:20180720
DTEND;VALUE=DATE:20180721
DTSTAMP:20260419T235659
CREATED:20180308T215648Z
LAST-MODIFIED:20180308T215648Z
UID:7330-1532044800-1532131199@lacdrolet.ca
SUMMARY:Collecte de matières compostables et recyclables
DESCRIPTION:
URL:https://lacdrolet.ca/event/collecte-de-matieres-compostables-et-recyclables-9/
CATEGORIES:Collecte des matières compostables,Collecte des matières recyclables
END:VEVENT
BEGIN:VEVENT
DTSTART;VALUE=DATE:20180725
DTEND;VALUE=DATE:20180726
DTSTAMP:20260419T235659
CREATED:20180308T212046Z
LAST-MODIFIED:20180308T212046Z
UID:7295-1532476800-1532563199@lacdrolet.ca
SUMMARY:Collecte des ordures
DESCRIPTION:
URL:https://lacdrolet.ca/event/collecte-des-ordures-10/
CATEGORIES:Collecte des ordures
END:VEVENT
BEGIN:VEVENT
DTSTART;VALUE=DATE:20180803
DTEND;VALUE=DATE:20180804
DTSTAMP:20260419T235659
CREATED:20180308T215925Z
LAST-MODIFIED:20180308T215925Z
UID:7332-1533254400-1533340799@lacdrolet.ca
SUMMARY:Collecte de matières compostables et recyclables
DESCRIPTION:
URL:https://lacdrolet.ca/event/collecte-de-matieres-compostables-et-recyclables-10/
CATEGORIES:Collecte des matières compostables,Collecte des matières recyclables
END:VEVENT
BEGIN:VEVENT
DTSTART;VALUE=DATE:20180808
DTEND;VALUE=DATE:20180809
DTSTAMP:20260419T235659
CREATED:20180308T212123Z
LAST-MODIFIED:20180308T212123Z
UID:7297-1533686400-1533772799@lacdrolet.ca
SUMMARY:Collecte des ordures
DESCRIPTION:
URL:https://lacdrolet.ca/event/collecte-des-ordures-11/
CATEGORIES:Collecte des ordures
END:VEVENT
BEGIN:VEVENT
DTSTART;VALUE=DATE:20180817
DTEND;VALUE=DATE:20180818
DTSTAMP:20260419T235659
CREATED:20180308T220005Z
LAST-MODIFIED:20180308T220005Z
UID:7334-1534464000-1534550399@lacdrolet.ca
SUMMARY:Collecte de matières compostables et recyclables
DESCRIPTION:
URL:https://lacdrolet.ca/event/collecte-de-matieres-compostables-et-recyclables-11/
CATEGORIES:Collecte des matières compostables,Collecte des matières recyclables
END:VEVENT
BEGIN:VEVENT
DTSTART;VALUE=DATE:20180822
DTEND;VALUE=DATE:20180823
DTSTAMP:20260419T235659
CREATED:20180308T212154Z
LAST-MODIFIED:20180308T212154Z
UID:7299-1534896000-1534982399@lacdrolet.ca
SUMMARY:Collecte des ordures
DESCRIPTION:
URL:https://lacdrolet.ca/event/collecte-des-ordures-12/
CATEGORIES:Collecte des ordures
END:VEVENT
BEGIN:VEVENT
DTSTART;VALUE=DATE:20180831
DTEND;VALUE=DATE:20180901
DTSTAMP:20260419T235659
CREATED:20180308T220035Z
LAST-MODIFIED:20180308T220035Z
UID:7336-1535673600-1535759999@lacdrolet.ca
SUMMARY:Collecte de matières compostables et recyclables
DESCRIPTION:
URL:https://lacdrolet.ca/event/collecte-de-matieres-compostables-et-recyclables-12/
CATEGORIES:Collecte des matières compostables,Collecte des matières recyclables
END:VEVENT
BEGIN:VEVENT
DTSTART;VALUE=DATE:20180905
DTEND;VALUE=DATE:20180906
DTSTAMP:20260419T235659
CREATED:20180308T212225Z
LAST-MODIFIED:20180308T212225Z
UID:7301-1536105600-1536191999@lacdrolet.ca
SUMMARY:Collecte des ordures
DESCRIPTION:
URL:https://lacdrolet.ca/event/collecte-des-ordures-13/
CATEGORIES:Collecte des ordures
END:VEVENT
BEGIN:VEVENT
DTSTART;VALUE=DATE:20180914
DTEND;VALUE=DATE:20180915
DTSTAMP:20260419T235659
CREATED:20180308T220133Z
LAST-MODIFIED:20180308T220133Z
UID:7338-1536883200-1536969599@lacdrolet.ca
SUMMARY:Collecte de matières compostables et recyclables
DESCRIPTION:
URL:https://lacdrolet.ca/event/collecte-de-matieres-compostables-et-recyclables-13/
CATEGORIES:Collecte des matières compostables,Collecte des matières recyclables
END:VEVENT
END:VCALENDAR