BEGIN:VCALENDAR
VERSION:2.0
PRODID:-//Municipalité Lac-Drolet - ECPv6.15.14//NONSGML v1.0//EN
CALSCALE:GREGORIAN
METHOD:PUBLISH
X-WR-CALNAME:Municipalité Lac-Drolet
X-ORIGINAL-URL:https://lacdrolet.ca
X-WR-CALDESC:Évènements pour Municipalité Lac-Drolet
REFRESH-INTERVAL;VALUE=DURATION:PT1H
X-Robots-Tag:noindex
X-PUBLISHED-TTL:PT1H
BEGIN:VTIMEZONE
TZID:America/Toronto
BEGIN:DAYLIGHT
TZOFFSETFROM:-0500
TZOFFSETTO:-0400
TZNAME:EDT
DTSTART:20160313T070000
END:DAYLIGHT
BEGIN:STANDARD
TZOFFSETFROM:-0400
TZOFFSETTO:-0500
TZNAME:EST
DTSTART:20161106T060000
END:STANDARD
BEGIN:DAYLIGHT
TZOFFSETFROM:-0500
TZOFFSETTO:-0400
TZNAME:EDT
DTSTART:20170312T070000
END:DAYLIGHT
BEGIN:STANDARD
TZOFFSETFROM:-0400
TZOFFSETTO:-0500
TZNAME:EST
DTSTART:20171105T060000
END:STANDARD
BEGIN:DAYLIGHT
TZOFFSETFROM:-0500
TZOFFSETTO:-0400
TZNAME:EDT
DTSTART:20180311T070000
END:DAYLIGHT
BEGIN:STANDARD
TZOFFSETFROM:-0400
TZOFFSETTO:-0500
TZNAME:EST
DTSTART:20181104T060000
END:STANDARD
BEGIN:DAYLIGHT
TZOFFSETFROM:-0500
TZOFFSETTO:-0400
TZNAME:EDT
DTSTART:20190310T070000
END:DAYLIGHT
BEGIN:STANDARD
TZOFFSETFROM:-0400
TZOFFSETTO:-0500
TZNAME:EST
DTSTART:20191103T060000
END:STANDARD
END:VTIMEZONE
BEGIN:VEVENT
DTSTART;TZID=America/Toronto:20170311T090000
DTEND;TZID=America/Toronto:20170311T120000
DTSTAMP:20260419T235658
CREATED:20170308T195622Z
LAST-MODIFIED:20170308T195622Z
UID:6771-1489222800-1489233600@lacdrolet.ca
SUMMARY:Activité du Club Vol-O-Vent
DESCRIPTION:
URL:https://lacdrolet.ca/event/activite-du-club-vol-o-vent/
LOCATION:Centre municipal\, 685\, rue Principale\, Lac-Drolet\, Québec\, G0Y1C0\, Canada
GEO:45.7187381;-70.8491712
X-APPLE-STRUCTURED-LOCATION;VALUE=URI;X-ADDRESS=Centre municipal 685 rue Principale Lac-Drolet Québec G0Y1C0 Canada;X-APPLE-RADIUS=500;X-TITLE=685\, rue Principale:geo:-70.8491712,45.7187381
END:VEVENT
BEGIN:VEVENT
DTSTART;TZID=America/Toronto:20170403T190000
DTEND;TZID=America/Toronto:20170403T210000
DTSTAMP:20260419T235658
CREATED:20161220T161010Z
LAST-MODIFIED:20161220T161010Z
UID:6378-1491246000-1491253200@lacdrolet.ca
SUMMARY:Séance régulière du Conseil municipal
DESCRIPTION:
URL:https://lacdrolet.ca/event/seance-reguliere-du-conseil-municipal-6/
LOCATION:Salle du conseil\, 685\, rue Principale\, Lac-Drolet\, Québec\, G0Y 1C0\, Canada
GEO:45.7187381;-70.8491712
X-APPLE-STRUCTURED-LOCATION;VALUE=URI;X-ADDRESS=Salle du conseil 685 rue Principale Lac-Drolet Québec G0Y 1C0 Canada;X-APPLE-RADIUS=500;X-TITLE=685\, rue Principale:geo:-70.8491712,45.7187381
END:VEVENT
BEGIN:VEVENT
DTSTART;TZID=America/Toronto:20170404T090000
DTEND;TZID=America/Toronto:20170404T100000
DTSTAMP:20260419T235658
CREATED:20170118T150108Z
LAST-MODIFIED:20170118T150108Z
UID:6536-1491296400-1491300000@lacdrolet.ca
SUMMARY:Vie active
DESCRIPTION:
URL:https://lacdrolet.ca/event/vie-active-7/2017-04-04/
CATEGORIES:Activités et événements
END:VEVENT
BEGIN:VEVENT
DTSTART;TZID=America/Toronto:20170501T190000
DTEND;TZID=America/Toronto:20170501T210000
DTSTAMP:20260419T235658
CREATED:20161220T161151Z
LAST-MODIFIED:20161220T161151Z
UID:6379-1493665200-1493672400@lacdrolet.ca
SUMMARY:Séance régulière du Conseil municipla
DESCRIPTION:
URL:https://lacdrolet.ca/event/seance-reguliere-du-conseil-municipla/
LOCATION:Salle du conseil\, 685\, rue Principale\, Lac-Drolet\, Québec\, G0Y 1C0\, Canada
GEO:45.7187381;-70.8491712
X-APPLE-STRUCTURED-LOCATION;VALUE=URI;X-ADDRESS=Salle du conseil 685 rue Principale Lac-Drolet Québec G0Y 1C0 Canada;X-APPLE-RADIUS=500;X-TITLE=685\, rue Principale:geo:-70.8491712,45.7187381
END:VEVENT
BEGIN:VEVENT
DTSTART;TZID=America/Toronto:20170503T090000
DTEND;TZID=America/Toronto:20170503T100000
DTSTAMP:20260419T235658
CREATED:20170118T150157Z
LAST-MODIFIED:20170118T150157Z
UID:6541-1493802000-1493805600@lacdrolet.ca
SUMMARY:Vie active
DESCRIPTION:
URL:https://lacdrolet.ca/event/vie-active-8/2017-05-03/
CATEGORIES:Activités et événements
END:VEVENT
BEGIN:VEVENT
DTSTART;VALUE=DATE:20170512
DTEND;VALUE=DATE:20170513
DTSTAMP:20260419T235658
CREATED:20170118T153822Z
LAST-MODIFIED:20170118T153822Z
UID:6641-1494547200-1494633599@lacdrolet.ca
SUMMARY:Collecte des matières compostables
DESCRIPTION:
URL:https://lacdrolet.ca/event/collecte-des-matieres-compostables-2/2017-05-12/
CATEGORIES:Collecte des matières compostables
END:VEVENT
BEGIN:VEVENT
DTSTART;TZID=America/Toronto:20170530T090000
DTEND;TZID=America/Toronto:20170530T100000
DTSTAMP:20260419T235658
CREATED:20170118T150254Z
LAST-MODIFIED:20170118T150254Z
UID:6546-1496134800-1496138400@lacdrolet.ca
SUMMARY:Vie active
DESCRIPTION:
URL:https://lacdrolet.ca/event/vie-active-9/2017-05-30/
CATEGORIES:Activités et événements
END:VEVENT
BEGIN:VEVENT
DTSTART;VALUE=DATE:20170531
DTEND;VALUE=DATE:20170601
DTSTAMP:20260419T235658
CREATED:20170118T153903Z
LAST-MODIFIED:20170118T153903Z
UID:6657-1496188800-1496275199@lacdrolet.ca
SUMMARY:Collecte des encombrants
DESCRIPTION:
URL:https://lacdrolet.ca/event/collecte-des-encombrants-2/
CATEGORIES:Collecte des encombrants
END:VEVENT
BEGIN:VEVENT
DTSTART;TZID=America/Toronto:20170605T190000
DTEND;TZID=America/Toronto:20170605T210000
DTSTAMP:20260419T235658
CREATED:20161220T161234Z
LAST-MODIFIED:20161220T161234Z
UID:6380-1496689200-1496696400@lacdrolet.ca
SUMMARY:Séance régulière du Conseil municipal
DESCRIPTION:
URL:https://lacdrolet.ca/event/seance-reguliere-du-conseil-municipal-7/
LOCATION:Salle du conseil\, 685\, rue Principale\, Lac-Drolet\, Québec\, G0Y 1C0\, Canada
GEO:45.7187381;-70.8491712
X-APPLE-STRUCTURED-LOCATION;VALUE=URI;X-ADDRESS=Salle du conseil 685 rue Principale Lac-Drolet Québec G0Y 1C0 Canada;X-APPLE-RADIUS=500;X-TITLE=685\, rue Principale:geo:-70.8491712,45.7187381
END:VEVENT
BEGIN:VEVENT
DTSTART;TZID=America/Toronto:20170607T090000
DTEND;TZID=America/Toronto:20170607T100000
DTSTAMP:20260419T235658
CREATED:20170118T150335Z
LAST-MODIFIED:20170118T150335Z
UID:6548-1496826000-1496829600@lacdrolet.ca
SUMMARY:Vie active
DESCRIPTION:
URL:https://lacdrolet.ca/event/vie-active-10/2017-06-07/
CATEGORIES:Activités et événements
END:VEVENT
BEGIN:VEVENT
DTSTART;VALUE=DATE:20170617
DTEND;VALUE=DATE:20170618
DTSTAMP:20260419T235658
CREATED:20170308T201229Z
LAST-MODIFIED:20170308T201229Z
UID:6773-1497657600-1497743999@lacdrolet.ca
SUMMARY:Tournoi de pêche
DESCRIPTION:
URL:https://lacdrolet.ca/event/tournoi-de-peche/
END:VEVENT
BEGIN:VEVENT
DTSTART;VALUE=DATE:20170624
DTEND;VALUE=DATE:20170626
DTSTAMP:20260419T235658
CREATED:20170308T201403Z
LAST-MODIFIED:20170308T201403Z
UID:6775-1498262400-1498435199@lacdrolet.ca
SUMMARY:Saison des Artisans
DESCRIPTION:
URL:https://lacdrolet.ca/event/saison-des-artisans/
LOCATION:Centre municipal\, 685\, rue Principale\, Lac-Drolet\, Québec\, G0Y1C0\, Canada
GEO:45.7187381;-70.8491712
X-APPLE-STRUCTURED-LOCATION;VALUE=URI;X-ADDRESS=Centre municipal 685 rue Principale Lac-Drolet Québec G0Y1C0 Canada;X-APPLE-RADIUS=500;X-TITLE=685\, rue Principale:geo:-70.8491712,45.7187381
END:VEVENT
BEGIN:VEVENT
DTSTART;TZID=America/Toronto:20170704T190000
DTEND;TZID=America/Toronto:20170704T210000
DTSTAMP:20260419T235658
CREATED:20161220T161331Z
LAST-MODIFIED:20161220T161331Z
UID:6381-1499194800-1499202000@lacdrolet.ca
SUMMARY:Séance régulière du Conseil municipal
DESCRIPTION:
URL:https://lacdrolet.ca/event/seance-reguliere-du-conseil-municipal-8/
LOCATION:Salle du conseil\, 685\, rue Principale\, Lac-Drolet\, Québec\, G0Y 1C0\, Canada
GEO:45.7187381;-70.8491712
X-APPLE-STRUCTURED-LOCATION;VALUE=URI;X-ADDRESS=Salle du conseil 685 rue Principale Lac-Drolet Québec G0Y 1C0 Canada;X-APPLE-RADIUS=500;X-TITLE=685\, rue Principale:geo:-70.8491712,45.7187381
END:VEVENT
BEGIN:VEVENT
DTSTART;TZID=America/Toronto:20170807T190000
DTEND;TZID=America/Toronto:20170807T210000
DTSTAMP:20260419T235658
CREATED:20161220T161443Z
LAST-MODIFIED:20161220T161443Z
UID:6382-1502132400-1502139600@lacdrolet.ca
SUMMARY:Séance régulière du Conseil municipal
DESCRIPTION:
URL:https://lacdrolet.ca/event/seance-reguliere-du-conseil-municipal-9/
LOCATION:Salle du conseil\, 685\, rue Principale\, Lac-Drolet\, Québec\, G0Y 1C0\, Canada
GEO:45.7187381;-70.8491712
X-APPLE-STRUCTURED-LOCATION;VALUE=URI;X-ADDRESS=Salle du conseil 685 rue Principale Lac-Drolet Québec G0Y 1C0 Canada;X-APPLE-RADIUS=500;X-TITLE=685\, rue Principale:geo:-70.8491712,45.7187381
END:VEVENT
BEGIN:VEVENT
DTSTART;TZID=America/Toronto:20170905T190000
DTEND;TZID=America/Toronto:20170905T210000
DTSTAMP:20260419T235658
CREATED:20161220T161521Z
LAST-MODIFIED:20161220T161521Z
UID:6383-1504638000-1504645200@lacdrolet.ca
SUMMARY:Séance régulière du Conseil municipal
DESCRIPTION:
URL:https://lacdrolet.ca/event/seance-reguliere-du-conseil-municipal-10/
LOCATION:Salle du conseil\, 685\, rue Principale\, Lac-Drolet\, Québec\, G0Y 1C0\, Canada
GEO:45.7187381;-70.8491712
X-APPLE-STRUCTURED-LOCATION;VALUE=URI;X-ADDRESS=Salle du conseil 685 rue Principale Lac-Drolet Québec G0Y 1C0 Canada;X-APPLE-RADIUS=500;X-TITLE=685\, rue Principale:geo:-70.8491712,45.7187381
END:VEVENT
BEGIN:VEVENT
DTSTART;TZID=America/Toronto:20171002T190000
DTEND;TZID=America/Toronto:20171002T210000
DTSTAMP:20260419T235658
CREATED:20161220T161616Z
LAST-MODIFIED:20161220T161616Z
UID:6384-1506970800-1506978000@lacdrolet.ca
SUMMARY:Séance régulière du Conseil municipal
DESCRIPTION:
URL:https://lacdrolet.ca/event/seance-reguliere-du-conseil-municipal-11/
LOCATION:Salle du conseil\, 685\, rue Principale\, Lac-Drolet\, Québec\, G0Y 1C0\, Canada
GEO:45.7187381;-70.8491712
X-APPLE-STRUCTURED-LOCATION;VALUE=URI;X-ADDRESS=Salle du conseil 685 rue Principale Lac-Drolet Québec G0Y 1C0 Canada;X-APPLE-RADIUS=500;X-TITLE=685\, rue Principale:geo:-70.8491712,45.7187381
END:VEVENT
BEGIN:VEVENT
DTSTART;TZID=America/Toronto:20171113T190000
DTEND;TZID=America/Toronto:20171113T210000
DTSTAMP:20260419T235658
CREATED:20161220T161751Z
LAST-MODIFIED:20161220T161751Z
UID:6385-1510599600-1510606800@lacdrolet.ca
SUMMARY:Séance régulière du Conseil municipal
DESCRIPTION:
URL:https://lacdrolet.ca/event/seance-reguliere-du-conseil-municipal-12/
LOCATION:Salle du conseil\, 685\, rue Principale\, Lac-Drolet\, Québec\, G0Y 1C0\, Canada
GEO:45.7187381;-70.8491712
X-APPLE-STRUCTURED-LOCATION;VALUE=URI;X-ADDRESS=Salle du conseil 685 rue Principale Lac-Drolet Québec G0Y 1C0 Canada;X-APPLE-RADIUS=500;X-TITLE=685\, rue Principale:geo:-70.8491712,45.7187381
END:VEVENT
BEGIN:VEVENT
DTSTART;TZID=America/Toronto:20171204T190000
DTEND;TZID=America/Toronto:20171204T210000
DTSTAMP:20260419T235658
CREATED:20161220T162041Z
LAST-MODIFIED:20161220T162041Z
UID:6386-1512414000-1512421200@lacdrolet.ca
SUMMARY:Séance régulière du Conseil municipal
DESCRIPTION:
URL:https://lacdrolet.ca/event/seance-reguliere-du-conseil-municipal-13/
LOCATION:Salle du conseil\, 685\, rue Principale\, Lac-Drolet\, Québec\, G0Y 1C0\, Canada
GEO:45.7187381;-70.8491712
X-APPLE-STRUCTURED-LOCATION;VALUE=URI;X-ADDRESS=Salle du conseil 685 rue Principale Lac-Drolet Québec G0Y 1C0 Canada;X-APPLE-RADIUS=500;X-TITLE=685\, rue Principale:geo:-70.8491712,45.7187381
END:VEVENT
BEGIN:VEVENT
DTSTART;TZID=America/Toronto:20180105T040000
DTEND;TZID=America/Toronto:20180105T170000
DTSTAMP:20260419T235658
CREATED:20180122T164153Z
LAST-MODIFIED:20180122T164325Z
UID:7246-1515124800-1515171600@lacdrolet.ca
SUMMARY:Collecte des matières compostables
DESCRIPTION:
URL:https://lacdrolet.ca/event/collecte-des-matieres-compostables/
CATEGORIES:Collecte des matières compostables
END:VEVENT
BEGIN:VEVENT
DTSTART;TZID=America/Toronto:20180110T040000
DTEND;TZID=America/Toronto:20180110T170000
DTSTAMP:20260419T235658
CREATED:20180122T163858Z
LAST-MODIFIED:20180122T163858Z
UID:7244-1515556800-1515603600@lacdrolet.ca
SUMMARY:Collecte des ordures
DESCRIPTION:
URL:https://lacdrolet.ca/event/collecte-des-ordures-2/
CATEGORIES:Collecte des ordures
END:VEVENT
BEGIN:VEVENT
DTSTART;TZID=America/Toronto:20180202T040000
DTEND;TZID=America/Toronto:20180202T170000
DTSTAMP:20260419T235658
CREATED:20180122T164439Z
LAST-MODIFIED:20180122T164439Z
UID:7248-1517544000-1517590800@lacdrolet.ca
SUMMARY:Collecte des matières compostables
DESCRIPTION:
URL:https://lacdrolet.ca/event/collecte-des-matieres-compostables-3/
CATEGORIES:Collecte des matières compostables
END:VEVENT
BEGIN:VEVENT
DTSTART;TZID=America/Toronto:20180202T040000
DTEND;TZID=America/Toronto:20180202T170000
DTSTAMP:20260419T235658
CREATED:20160704T161007Z
LAST-MODIFIED:20180202T143413Z
UID:7081-1517544000-1517590800@lacdrolet.ca
SUMMARY:Collecte des matières recyclables
DESCRIPTION:
URL:https://lacdrolet.ca/event/collecte-des-matieres-recyclables-2019-12-27/
CATEGORIES:Collecte des matières recyclables
END:VEVENT
BEGIN:VEVENT
DTSTART;TZID=America/Toronto:20180207T040000
DTEND;TZID=America/Toronto:20180207T170000
DTSTAMP:20260419T235658
CREATED:20180122T165533Z
LAST-MODIFIED:20180122T165533Z
UID:7250-1517976000-1518022800@lacdrolet.ca
SUMMARY:Collecte des ordures
DESCRIPTION:
URL:https://lacdrolet.ca/event/collecte-des-ordures-3/
CATEGORIES:Collecte des ordures
END:VEVENT
BEGIN:VEVENT
DTSTART;TZID=America/Toronto:20180216T040000
DTEND;TZID=America/Toronto:20180216T170000
DTSTAMP:20260419T235658
CREATED:20180122T165627Z
LAST-MODIFIED:20180122T165627Z
UID:7252-1518753600-1518800400@lacdrolet.ca
SUMMARY:Collecte des matières recyclables
DESCRIPTION:
URL:https://lacdrolet.ca/event/collecte-des-matieres-recyclables-2/
CATEGORIES:Collecte des matières recyclables
END:VEVENT
BEGIN:VEVENT
DTSTART;VALUE=DATE:20180302
DTEND;VALUE=DATE:20180303
DTSTAMP:20260419T235658
CREATED:20180309T141447Z
LAST-MODIFIED:20180309T141447Z
UID:7358-1519948800-1520035199@lacdrolet.ca
SUMMARY:Collecte de matières compostables et recyclables
DESCRIPTION:
URL:https://lacdrolet.ca/event/collecte-de-matieres-compostables-et-recyclables-19/
CATEGORIES:Collecte des matières compostables,Collecte des matières recyclables
END:VEVENT
BEGIN:VEVENT
DTSTART;VALUE=DATE:20180307
DTEND;VALUE=DATE:20180308
DTSTAMP:20260419T235658
CREATED:20180309T141340Z
LAST-MODIFIED:20180309T141340Z
UID:7356-1520380800-1520467199@lacdrolet.ca
SUMMARY:Collecte des ordures
DESCRIPTION:
URL:https://lacdrolet.ca/event/collecte-des-ordures-18/
CATEGORIES:Collecte des ordures
END:VEVENT
BEGIN:VEVENT
DTSTART;VALUE=DATE:20180316
DTEND;VALUE=DATE:20180317
DTSTAMP:20260419T235658
CREATED:20180308T214215Z
LAST-MODIFIED:20180308T214626Z
UID:7311-1521158400-1521244799@lacdrolet.ca
SUMMARY:Collecte des matières recyclables
DESCRIPTION:
URL:https://lacdrolet.ca/event/collecte-des-matieres-recyclables-3/
CATEGORIES:Collecte des matières recyclables
END:VEVENT
BEGIN:VEVENT
DTSTART;VALUE=DATE:20180330
DTEND;VALUE=DATE:20180331
DTSTAMP:20260419T235658
CREATED:20180308T214358Z
LAST-MODIFIED:20180308T214358Z
UID:7313-1522368000-1522454399@lacdrolet.ca
SUMMARY:Collecte de matières compostables et recyclables
DESCRIPTION:
URL:https://lacdrolet.ca/event/collecte-de-matieres-compostables-et-recyclables/
CATEGORIES:Collecte des matières compostables,Collecte des matières recyclables
END:VEVENT
BEGIN:VEVENT
DTSTART;VALUE=DATE:20180404
DTEND;VALUE=DATE:20180405
DTSTAMP:20260419T235658
CREATED:20180308T211520Z
LAST-MODIFIED:20180308T211520Z
UID:7283-1522800000-1522886399@lacdrolet.ca
SUMMARY:Collecte des ordures
DESCRIPTION:
URL:https://lacdrolet.ca/event/collecte-des-ordures-4/
CATEGORIES:Collecte des ordures
END:VEVENT
BEGIN:VEVENT
DTSTART;VALUE=DATE:20180413
DTEND;VALUE=DATE:20180414
DTSTAMP:20260419T235658
CREATED:20180308T214736Z
LAST-MODIFIED:20180308T214736Z
UID:7316-1523577600-1523663999@lacdrolet.ca
SUMMARY:Collecte de matières compostables et recyclables
DESCRIPTION:
URL:https://lacdrolet.ca/event/collecte-de-matieres-compostables-et-recyclables-2/
CATEGORIES:Collecte des matières compostables,Collecte des matières recyclables
END:VEVENT
END:VCALENDAR