BEGIN:VCALENDAR
VERSION:2.0
PRODID:-//Municipalité Lac-Drolet - ECPv6.15.14//NONSGML v1.0//EN
CALSCALE:GREGORIAN
METHOD:PUBLISH
X-WR-CALNAME:Municipalité Lac-Drolet
X-ORIGINAL-URL:https://lacdrolet.ca
X-WR-CALDESC:Évènements pour Municipalité Lac-Drolet
REFRESH-INTERVAL;VALUE=DURATION:PT1H
X-Robots-Tag:noindex
X-PUBLISHED-TTL:PT1H
BEGIN:VTIMEZONE
TZID:America/Toronto
BEGIN:DAYLIGHT
TZOFFSETFROM:-0500
TZOFFSETTO:-0400
TZNAME:EDT
DTSTART:20150308T070000
END:DAYLIGHT
BEGIN:STANDARD
TZOFFSETFROM:-0400
TZOFFSETTO:-0500
TZNAME:EST
DTSTART:20151101T060000
END:STANDARD
BEGIN:DAYLIGHT
TZOFFSETFROM:-0500
TZOFFSETTO:-0400
TZNAME:EDT
DTSTART:20160313T070000
END:DAYLIGHT
BEGIN:STANDARD
TZOFFSETFROM:-0400
TZOFFSETTO:-0500
TZNAME:EST
DTSTART:20161106T060000
END:STANDARD
BEGIN:DAYLIGHT
TZOFFSETFROM:-0500
TZOFFSETTO:-0400
TZNAME:EDT
DTSTART:20170312T070000
END:DAYLIGHT
BEGIN:STANDARD
TZOFFSETFROM:-0400
TZOFFSETTO:-0500
TZNAME:EST
DTSTART:20171105T060000
END:STANDARD
BEGIN:DAYLIGHT
TZOFFSETFROM:-0500
TZOFFSETTO:-0400
TZNAME:EDT
DTSTART:20180311T070000
END:DAYLIGHT
BEGIN:STANDARD
TZOFFSETFROM:-0400
TZOFFSETTO:-0500
TZNAME:EST
DTSTART:20181104T060000
END:STANDARD
END:VTIMEZONE
BEGIN:VEVENT
DTSTART;TZID=America/Toronto:20160914T183000
DTEND;TZID=America/Toronto:20160914T200000
DTSTAMP:20260419T165749
CREATED:20160831T134122Z
LAST-MODIFIED:20160831T135225Z
UID:6035-1473877800-1473883200@lacdrolet.ca
SUMMARY:Forme intensive
DESCRIPTION:
URL:https://lacdrolet.ca/event/forme-intensive/2016-09-14/
LOCATION:Centre municipal\, 685\, rue Principale\, Lac-Drolet\, Québec\, G0Y1C0\, Canada
CATEGORIES:Activités et événements
ATTACH;FMTTYPE=image/jpeg:https://lacdrolet.ca/wp-content/uploads/2016/06/Mont-Gym.jpg
GEO:45.7187381;-70.8491712
X-APPLE-STRUCTURED-LOCATION;VALUE=URI;X-ADDRESS=Centre municipal 685 rue Principale Lac-Drolet Québec G0Y1C0 Canada;X-APPLE-RADIUS=500;X-TITLE=685\, rue Principale:geo:-70.8491712,45.7187381
END:VEVENT
BEGIN:VEVENT
DTSTART;VALUE=DATE:20160917
DTEND;VALUE=DATE:20160918
DTSTAMP:20260419T165749
CREATED:20160831T132125Z
LAST-MODIFIED:20160831T132201Z
UID:6026-1474070400-1474156799@lacdrolet.ca
SUMMARY:Soirée club d'âge d'or
DESCRIPTION:
URL:https://lacdrolet.ca/event/soiree-club-dage-dor/
LOCATION:Centre municipal\, 685\, rue Principale\, Lac-Drolet\, Québec\, G0Y1C0\, Canada
CATEGORIES:Activités et événements
GEO:45.7187381;-70.8491712
X-APPLE-STRUCTURED-LOCATION;VALUE=URI;X-ADDRESS=Centre municipal 685 rue Principale Lac-Drolet Québec G0Y1C0 Canada;X-APPLE-RADIUS=500;X-TITLE=685\, rue Principale:geo:-70.8491712,45.7187381
END:VEVENT
BEGIN:VEVENT
DTSTART;TZID=America/Toronto:20160917T100000
DTEND;TZID=America/Toronto:20160917T170000
DTSTAMP:20260419T165749
CREATED:20160831T130336Z
LAST-MODIFIED:20160831T130336Z
UID:6025-1474106400-1474131600@lacdrolet.ca
SUMMARY:Journée Rando/Moto - Journée des Sommets
DESCRIPTION:
URL:https://lacdrolet.ca/event/journee-randomoto-journee-des-sommets/
LOCATION:Maison du Granit\, 301\, route du Morne\, Lac-Drolet\, Québec\, G0Y 1C0\, Canada
CATEGORIES:Activités et événements
GEO:45.7419838;-70.8982248
X-APPLE-STRUCTURED-LOCATION;VALUE=URI;X-ADDRESS=Maison du Granit 301 route du Morne Lac-Drolet Québec G0Y 1C0 Canada;X-APPLE-RADIUS=500;X-TITLE=301\, route du Morne:geo:-70.8982248,45.7419838
END:VEVENT
BEGIN:VEVENT
DTSTART;TZID=America/Toronto:20160919T183000
DTEND;TZID=America/Toronto:20160919T193000
DTSTAMP:20260419T165749
CREATED:20160909T141750Z
LAST-MODIFIED:20160909T141750Z
UID:6093-1474309800-1474313400@lacdrolet.ca
SUMMARY:Femmes en forme
DESCRIPTION:
URL:https://lacdrolet.ca/event/femmes-en-forme/2016-09-19/
LOCATION:Centre municipal\, 685\, rue Principale\, Lac-Drolet\, Québec\, G0Y1C0\, Canada
CATEGORIES:Activités et événements
GEO:45.7187381;-70.8491712
X-APPLE-STRUCTURED-LOCATION;VALUE=URI;X-ADDRESS=Centre municipal 685 rue Principale Lac-Drolet Québec G0Y1C0 Canada;X-APPLE-RADIUS=500;X-TITLE=685\, rue Principale:geo:-70.8491712,45.7187381
END:VEVENT
BEGIN:VEVENT
DTSTART;TZID=America/Toronto:20160922T183000
DTEND;TZID=America/Toronto:20160922T193000
DTSTAMP:20260419T165749
CREATED:20160909T141917Z
LAST-MODIFIED:20160909T141917Z
UID:6105-1474569000-1474572600@lacdrolet.ca
SUMMARY:Femmes en forme
DESCRIPTION:
URL:https://lacdrolet.ca/event/femmes-en-forme-2/2016-09-22/
LOCATION:Centre municipal\, 685\, rue Principale\, Lac-Drolet\, Québec\, G0Y1C0\, Canada
CATEGORIES:Activités et événements
GEO:45.7187381;-70.8491712
X-APPLE-STRUCTURED-LOCATION;VALUE=URI;X-ADDRESS=Centre municipal 685 rue Principale Lac-Drolet Québec G0Y1C0 Canada;X-APPLE-RADIUS=500;X-TITLE=685\, rue Principale:geo:-70.8491712,45.7187381
END:VEVENT
BEGIN:VEVENT
DTSTART;TZID=America/Toronto:20160924T100000
DTEND;TZID=America/Toronto:20160924T170000
DTSTAMP:20260419T165749
CREATED:20160831T133036Z
LAST-MODIFIED:20160831T133635Z
UID:6032-1474711200-1474736400@lacdrolet.ca
SUMMARY:Journées des Sommets - Maison du Granit
DESCRIPTION:Visite libre et accès au Sentier du Morne / le samedi 24 septembre\nDans le cadre des Journées des Sommets\, la Maison du Granit ouvre gratuitement ses portes au public. Découvrez l’histoire du granit tout en contemplant un panorama magnifique offert au centre d’interprétation. Accès au Sentier du Morne (3 km).
URL:https://lacdrolet.ca/event/journees-des-sommets-maison-du-granit/2016-09-24/
LOCATION:Maison du Granit\, 301\, route du Morne\, Lac-Drolet\, Québec\, G0Y 1C0\, Canada
CATEGORIES:Activités et événements
GEO:45.7419838;-70.8982248
X-APPLE-STRUCTURED-LOCATION;VALUE=URI;X-ADDRESS=Maison du Granit 301 route du Morne Lac-Drolet Québec G0Y 1C0 Canada;X-APPLE-RADIUS=500;X-TITLE=301\, route du Morne:geo:-70.8982248,45.7419838
END:VEVENT
BEGIN:VEVENT
DTSTART;TZID=America/Toronto:20160928T090000
DTEND;TZID=America/Toronto:20160928T100000
DTSTAMP:20260419T165749
CREATED:20160927T181452Z
LAST-MODIFIED:20160927T181452Z
UID:6152-1475053200-1475056800@lacdrolet.ca
SUMMARY:Vie Active
DESCRIPTION:
URL:https://lacdrolet.ca/event/vie-active/2016-09-28/
LOCATION:Centre municipal\, 685\, rue Principale\, Lac-Drolet\, Québec\, G0Y1C0\, Canada
CATEGORIES:Activités et événements
GEO:45.7187381;-70.8491712
X-APPLE-STRUCTURED-LOCATION;VALUE=URI;X-ADDRESS=Centre municipal 685 rue Principale Lac-Drolet Québec G0Y1C0 Canada;X-APPLE-RADIUS=500;X-TITLE=685\, rue Principale:geo:-70.8491712,45.7187381
END:VEVENT
BEGIN:VEVENT
DTSTART;TZID=America/Toronto:20160928T183000
DTEND;TZID=America/Toronto:20160928T200000
DTSTAMP:20260419T165749
CREATED:20160927T181737Z
LAST-MODIFIED:20160927T181737Z
UID:6165-1475087400-1475092800@lacdrolet.ca
SUMMARY:Rencontre spécial Comité dévelop. local
DESCRIPTION:
URL:https://lacdrolet.ca/event/rencontre-special-comite-develop-local/
CATEGORIES:Activités et événements
END:VEVENT
BEGIN:VEVENT
DTSTART;TZID=America/Toronto:20161001T100000
DTEND;TZID=America/Toronto:20161001T170000
DTSTAMP:20260419T165749
CREATED:20160830T193820Z
LAST-MODIFIED:20160830T195139Z
UID:6018-1475316000-1475341200@lacdrolet.ca
SUMMARY:Journées de la Culture
DESCRIPTION:
URL:https://lacdrolet.ca/event/journees-de-la-culture/2016-10-01/
LOCATION:Maison du Granit\, 301\, route du Morne\, Lac-Drolet\, Québec\, G0Y 1C0\, Canada
CATEGORIES:Activités et événements
GEO:45.7419838;-70.8982248
X-APPLE-STRUCTURED-LOCATION;VALUE=URI;X-ADDRESS=Maison du Granit 301 route du Morne Lac-Drolet Québec G0Y 1C0 Canada;X-APPLE-RADIUS=500;X-TITLE=301\, route du Morne:geo:-70.8982248,45.7419838
END:VEVENT
BEGIN:VEVENT
DTSTART;TZID=America/Toronto:20161003T190000
DTEND;TZID=America/Toronto:20161003T210000
DTSTAMP:20260419T165749
CREATED:20160704T161626Z
LAST-MODIFIED:20160704T161626Z
UID:5606-1475521200-1475528400@lacdrolet.ca
SUMMARY:Séance régulière du conseil municipal
DESCRIPTION:
URL:https://lacdrolet.ca/event/seance-reguliere-du-conseil-municipal-2/
END:VEVENT
BEGIN:VEVENT
DTSTART;TZID=America/Toronto:20161005T183000
DTEND;TZID=America/Toronto:20161005T210000
DTSTAMP:20260419T165749
CREATED:20160927T182035Z
LAST-MODIFIED:20160927T182035Z
UID:6166-1475692200-1475701200@lacdrolet.ca
SUMMARY:Cours CSHC - Tablette numérique
DESCRIPTION:
URL:https://lacdrolet.ca/event/cours-cshc-tablette-numerique/2016-10-05/
LOCATION:Centre municipal\, 685\, rue Principale\, Lac-Drolet\, Québec\, G0Y1C0\, Canada
CATEGORIES:Activités et événements
GEO:45.7187381;-70.8491712
X-APPLE-STRUCTURED-LOCATION;VALUE=URI;X-ADDRESS=Centre municipal 685 rue Principale Lac-Drolet Québec G0Y1C0 Canada;X-APPLE-RADIUS=500;X-TITLE=685\, rue Principale:geo:-70.8491712,45.7187381
END:VEVENT
BEGIN:VEVENT
DTSTART;TZID=America/Toronto:20161006T130000
DTEND;TZID=America/Toronto:20161006T153000
DTSTAMP:20260419T165749
CREATED:20160927T182159Z
LAST-MODIFIED:20160927T182657Z
UID:6177-1475758800-1475767800@lacdrolet.ca
SUMMARY:Cours CSHC - Espagnol
DESCRIPTION:
URL:https://lacdrolet.ca/event/cours-cshc-espagnol/
LOCATION:Centre municipal\, 685\, rue Principale\, Lac-Drolet\, Québec\, G0Y1C0\, Canada
CATEGORIES:Activités et événements
GEO:45.7187381;-70.8491712
X-APPLE-STRUCTURED-LOCATION;VALUE=URI;X-ADDRESS=Centre municipal 685 rue Principale Lac-Drolet Québec G0Y1C0 Canada;X-APPLE-RADIUS=500;X-TITLE=685\, rue Principale:geo:-70.8491712,45.7187381
END:VEVENT
BEGIN:VEVENT
DTSTART;VALUE=DATE:20161015
DTEND;VALUE=DATE:20161016
DTSTAMP:20260419T165749
CREATED:20160831T132353Z
LAST-MODIFIED:20160831T132353Z
UID:6030-1476489600-1476575999@lacdrolet.ca
SUMMARY:Soirée club d'âge d'or
DESCRIPTION:
URL:https://lacdrolet.ca/event/soiree-club-dage-dor-2/
LOCATION:Centre municipal\, 685\, rue Principale\, Lac-Drolet\, Québec\, G0Y1C0\, Canada
CATEGORIES:Activités et événements
GEO:45.7187381;-70.8491712
X-APPLE-STRUCTURED-LOCATION;VALUE=URI;X-ADDRESS=Centre municipal 685 rue Principale Lac-Drolet Québec G0Y1C0 Canada;X-APPLE-RADIUS=500;X-TITLE=685\, rue Principale:geo:-70.8491712,45.7187381
END:VEVENT
BEGIN:VEVENT
DTSTART;VALUE=DATE:20161023
DTEND;VALUE=DATE:20161107
DTSTAMP:20260419T165749
CREATED:20160906T124829Z
LAST-MODIFIED:20160906T124829Z
UID:6080-1477180800-1478476799@lacdrolet.ca
SUMMARY:Campagne de la C.V.A.
DESCRIPTION:Pour plus d’informations sur la campagne de contribution volontaire annuelle de l’Église\, veuillez communiquer au 819-549-2112 ou par courrier électronique à fabriquestsamuel@axion.ca.
URL:https://lacdrolet.ca/event/campagne-de-la-c-v-a/
CATEGORIES:Activités et événements
END:VEVENT
BEGIN:VEVENT
DTSTART;TZID=America/Toronto:20161025T090000
DTEND;TZID=America/Toronto:20161025T113000
DTSTAMP:20260419T165749
CREATED:20160927T183414Z
LAST-MODIFIED:20160927T183821Z
UID:6180-1477386000-1477395000@lacdrolet.ca
SUMMARY:Atelier Saines habitudes de vie
DESCRIPTION:
URL:https://lacdrolet.ca/event/atelier-saines-habitudes-de-vie/
LOCATION:Centre municipal\, 685\, rue Principale\, Lac-Drolet\, Québec\, G0Y1C0\, Canada
CATEGORIES:Activités et événements
GEO:45.7187381;-70.8491712
X-APPLE-STRUCTURED-LOCATION;VALUE=URI;X-ADDRESS=Centre municipal 685 rue Principale Lac-Drolet Québec G0Y1C0 Canada;X-APPLE-RADIUS=500;X-TITLE=685\, rue Principale:geo:-70.8491712,45.7187381
END:VEVENT
BEGIN:VEVENT
DTSTART;TZID=America/Toronto:20161031T090000
DTEND;TZID=America/Toronto:20161031T113000
DTSTAMP:20260419T165749
CREATED:20160927T183603Z
LAST-MODIFIED:20160927T183848Z
UID:6185-1477904400-1477913400@lacdrolet.ca
SUMMARY:Atelier Saines habitudes de vie
DESCRIPTION:
URL:https://lacdrolet.ca/event/atelier-saines-habitudes-de-vie-3/
CATEGORIES:Activités et événements
END:VEVENT
BEGIN:VEVENT
DTSTART;TZID=America/Toronto:20161102T090000
DTEND;TZID=America/Toronto:20161102T113000
DTSTAMP:20260419T165749
CREATED:20160927T183157Z
LAST-MODIFIED:20160927T183157Z
UID:6178-1478077200-1478086200@lacdrolet.ca
SUMMARY:Clinique de vaccination
DESCRIPTION:
URL:https://lacdrolet.ca/event/clinique-de-vaccination/
LOCATION:Centre municipal\, 685\, rue Principale\, Lac-Drolet\, Québec\, G0Y1C0\, Canada
CATEGORIES:Activités et événements
GEO:45.7187381;-70.8491712
X-APPLE-STRUCTURED-LOCATION;VALUE=URI;X-ADDRESS=Centre municipal 685 rue Principale Lac-Drolet Québec G0Y1C0 Canada;X-APPLE-RADIUS=500;X-TITLE=685\, rue Principale:geo:-70.8491712,45.7187381
END:VEVENT
BEGIN:VEVENT
DTSTART;TZID=America/Toronto:20161107T190000
DTEND;TZID=America/Toronto:20161107T210000
DTSTAMP:20260419T165749
CREATED:20160704T161708Z
LAST-MODIFIED:20160704T161708Z
UID:5607-1478545200-1478552400@lacdrolet.ca
SUMMARY:Séance régulière du conseil municipal
DESCRIPTION:
URL:https://lacdrolet.ca/event/seance-reguliere-du-conseil-municipal-3/
END:VEVENT
BEGIN:VEVENT
DTSTART;TZID=America/Toronto:20161108T090000
DTEND;TZID=America/Toronto:20161108T113000
DTSTAMP:20260419T165749
CREATED:20160927T183519Z
LAST-MODIFIED:20160927T184003Z
UID:6181-1478595600-1478604600@lacdrolet.ca
SUMMARY:Atelier Saines habitudes de vie
DESCRIPTION:
URL:https://lacdrolet.ca/event/atelier-saines-habitudes-de-vie-2/2016-11-08/
LOCATION:Centre municipal\, 685\, rue Principale\, Lac-Drolet\, Québec\, G0Y1C0\, Canada
CATEGORIES:Activités et événements
GEO:45.7187381;-70.8491712
X-APPLE-STRUCTURED-LOCATION;VALUE=URI;X-ADDRESS=Centre municipal 685 rue Principale Lac-Drolet Québec G0Y1C0 Canada;X-APPLE-RADIUS=500;X-TITLE=685\, rue Principale:geo:-70.8491712,45.7187381
END:VEVENT
BEGIN:VEVENT
DTSTART;VALUE=DATE:20161119
DTEND;VALUE=DATE:20161120
DTSTAMP:20260419T165749
CREATED:20160831T132557Z
LAST-MODIFIED:20160831T132557Z
UID:6031-1479513600-1479599999@lacdrolet.ca
SUMMARY:Souper de Noël - Club d'âge d'or
DESCRIPTION:
URL:https://lacdrolet.ca/event/souper-de-noel-club-dage-dor/
CATEGORIES:Activités et événements
END:VEVENT
BEGIN:VEVENT
DTSTART;TZID=America/Toronto:20161123T090000
DTEND;TZID=America/Toronto:20161123T100000
DTSTAMP:20260419T165749
CREATED:20160927T181611Z
LAST-MODIFIED:20160927T181611Z
UID:6160-1479891600-1479895200@lacdrolet.ca
SUMMARY:Vie Active
DESCRIPTION:
URL:https://lacdrolet.ca/event/vie-active-2/2016-11-23/
CATEGORIES:Activités et événements
END:VEVENT
BEGIN:VEVENT
DTSTART;TZID=America/Toronto:20161205T190000
DTEND;TZID=America/Toronto:20161205T210000
DTSTAMP:20260419T165749
CREATED:20160704T161748Z
LAST-MODIFIED:20160704T161748Z
UID:5608-1480964400-1480971600@lacdrolet.ca
SUMMARY:Séance régulière du conseil municipal
DESCRIPTION:
URL:https://lacdrolet.ca/event/seance-reguliere-du-conseil-municipal-4/
END:VEVENT
BEGIN:VEVENT
DTSTART;TZID=America/Toronto:20161207T090000
DTEND;TZID=America/Toronto:20161207T113000
DTSTAMP:20260419T165749
CREATED:20160927T183318Z
LAST-MODIFIED:20160927T183318Z
UID:6179-1481101200-1481110200@lacdrolet.ca
SUMMARY:Clinique de vaccination
DESCRIPTION:
URL:https://lacdrolet.ca/event/clinique-de-vaccination-2/
LOCATION:Centre municipal\, 685\, rue Principale\, Lac-Drolet\, Québec\, G0Y1C0\, Canada
CATEGORIES:Activités et événements
GEO:45.7187381;-70.8491712
X-APPLE-STRUCTURED-LOCATION;VALUE=URI;X-ADDRESS=Centre municipal 685 rue Principale Lac-Drolet Québec G0Y1C0 Canada;X-APPLE-RADIUS=500;X-TITLE=685\, rue Principale:geo:-70.8491712,45.7187381
END:VEVENT
BEGIN:VEVENT
DTSTART;TZID=America/Toronto:20161221T130000
DTEND;TZID=America/Toronto:20161221T150000
DTSTAMP:20260419T165749
CREATED:20161220T153604Z
LAST-MODIFIED:20161220T153645Z
UID:6370-1482325200-1482332400@lacdrolet.ca
SUMMARY:Spectacle de musique de l'école des Monts-et-Lacs
DESCRIPTION:Spectacle de musique présenté par les élèves de Mme Marie-Joëlle Croteau à 13h au gymnase du Centre municipal. Contribution volontaire.
URL:https://lacdrolet.ca/event/spectacle-de-musique-de-lecole-des-monts-et-lacs/
LOCATION:Centre municipal\, 685\, rue Principale\, Lac-Drolet\, Québec\, G0Y1C0\, Canada
GEO:45.7187381;-70.8491712
X-APPLE-STRUCTURED-LOCATION;VALUE=URI;X-ADDRESS=Centre municipal 685 rue Principale Lac-Drolet Québec G0Y1C0 Canada;X-APPLE-RADIUS=500;X-TITLE=685\, rue Principale:geo:-70.8491712,45.7187381
END:VEVENT
BEGIN:VEVENT
DTSTART;VALUE=DATE:20170106
DTEND;VALUE=DATE:20170107
DTSTAMP:20260419T165749
CREATED:20170118T153605Z
LAST-MODIFIED:20170118T153605Z
UID:6614-1483660800-1483747199@lacdrolet.ca
SUMMARY:Collecte des matières recyclages
DESCRIPTION:
URL:https://lacdrolet.ca/event/collecte-des-matieres-recyclages/2017-01-06/
CATEGORIES:Collecte des matières recyclables
END:VEVENT
BEGIN:VEVENT
DTSTART;VALUE=DATE:20170111
DTEND;VALUE=DATE:20170112
DTSTAMP:20260419T165749
CREATED:20170118T152845Z
LAST-MODIFIED:20170118T153402Z
UID:6566-1484092800-1484179199@lacdrolet.ca
SUMMARY:Collecte des ordures ménagères
DESCRIPTION:
URL:https://lacdrolet.ca/event/collecte-des-ordures-menageres/2017-01-11/
CATEGORIES:Collecte des ordures
END:VEVENT
BEGIN:VEVENT
DTSTART;TZID=America/Toronto:20170116T190000
DTEND;TZID=America/Toronto:20170116T210000
DTSTAMP:20260419T165749
CREATED:20161220T160231Z
LAST-MODIFIED:20161220T160814Z
UID:6375-1484593200-1484600400@lacdrolet.ca
SUMMARY:Séance régulière du Conseil municipal
DESCRIPTION:
URL:https://lacdrolet.ca/event/seance-ordinaire-du-conseil/
LOCATION:Salle du conseil\, 685\, rue Principale\, Lac-Drolet\, Québec\, G0Y 1C0\, Canada
GEO:45.7187381;-70.8491712
X-APPLE-STRUCTURED-LOCATION;VALUE=URI;X-ADDRESS=Salle du conseil 685 rue Principale Lac-Drolet Québec G0Y 1C0 Canada;X-APPLE-RADIUS=500;X-TITLE=685\, rue Principale:geo:-70.8491712,45.7187381
END:VEVENT
BEGIN:VEVENT
DTSTART;TZID=America/Toronto:20170117T170000
DTEND;TZID=America/Toronto:20170117T183000
DTSTAMP:20260419T165749
CREATED:20161220T155502Z
LAST-MODIFIED:20161220T155502Z
UID:6372-1484672400-1484677800@lacdrolet.ca
SUMMARY:Inscription Cours CSHC
DESCRIPTION:Salle du Conseil au Centre municipal au 685 rue Principale. \nInscription de 17h à 18h30 \nInscription pour le cours : Espagnol 2 (jeudi 13h00 à 15h30) 40$ \nInscription pour le cours : Cuisinez santé à petit prix (mardis soirs 18h30 à 21h00) 50$ \nPaiement en argent ou par chèque à l’ordre de la CSHC \n(des frais supplémentaires de 10$ seront appliqués si l’inscription est faite après le 17 janvier) \n 
URL:https://lacdrolet.ca/event/inscription-cours-cshc/
LOCATION:Salle du conseil\, 685\, rue Principale\, Lac-Drolet\, Québec\, G0Y 1C0\, Canada
GEO:45.7187381;-70.8491712
X-APPLE-STRUCTURED-LOCATION;VALUE=URI;X-ADDRESS=Salle du conseil 685 rue Principale Lac-Drolet Québec G0Y 1C0 Canada;X-APPLE-RADIUS=500;X-TITLE=685\, rue Principale:geo:-70.8491712,45.7187381
END:VEVENT
BEGIN:VEVENT
DTSTART;TZID=America/Toronto:20170118T173000
DTEND;TZID=America/Toronto:20170118T183000
DTSTAMP:20260419T165749
CREATED:20170118T144921Z
LAST-MODIFIED:20170118T145657Z
UID:6437-1484760600-1484764200@lacdrolet.ca
SUMMARY:Femmes en forme
DESCRIPTION:
URL:https://lacdrolet.ca/event/femmes-en-forme-3/2017-01-18/
LOCATION:Centre municipal\, 685\, rue Principale\, Lac-Drolet\, Québec\, G0Y1C0\, Canada
CATEGORIES:Activités et événements
GEO:45.7187381;-70.8491712
X-APPLE-STRUCTURED-LOCATION;VALUE=URI;X-ADDRESS=Centre municipal 685 rue Principale Lac-Drolet Québec G0Y1C0 Canada;X-APPLE-RADIUS=500;X-TITLE=685\, rue Principale:geo:-70.8491712,45.7187381
END:VEVENT
BEGIN:VEVENT
DTSTART;TZID=America/Toronto:20170118T183000
DTEND;TZID=America/Toronto:20170118T200000
DTSTAMP:20260419T165749
CREATED:20170118T145029Z
LAST-MODIFIED:20170118T145622Z
UID:6457-1484764200-1484769600@lacdrolet.ca
SUMMARY:Forme intensive
DESCRIPTION:
URL:https://lacdrolet.ca/event/forme-intensive-2/2017-01-18/
LOCATION:Centre municipal\, 685\, rue Principale\, Lac-Drolet\, Québec\, G0Y1C0\, Canada
CATEGORIES:Activités et événements
GEO:45.7187381;-70.8491712
X-APPLE-STRUCTURED-LOCATION;VALUE=URI;X-ADDRESS=Centre municipal 685 rue Principale Lac-Drolet Québec G0Y1C0 Canada;X-APPLE-RADIUS=500;X-TITLE=685\, rue Principale:geo:-70.8491712,45.7187381
END:VEVENT
END:VCALENDAR