BEGIN:VCALENDAR
VERSION:2.0
PRODID:-//Municipalité Lac-Drolet - ECPv6.15.14//NONSGML v1.0//EN
CALSCALE:GREGORIAN
METHOD:PUBLISH
X-WR-CALNAME:Municipalité Lac-Drolet
X-ORIGINAL-URL:https://lacdrolet.ca
X-WR-CALDESC:Évènements pour Municipalité Lac-Drolet
REFRESH-INTERVAL;VALUE=DURATION:PT1H
X-Robots-Tag:noindex
X-PUBLISHED-TTL:PT1H
BEGIN:VTIMEZONE
TZID:America/Toronto
BEGIN:DAYLIGHT
TZOFFSETFROM:-0500
TZOFFSETTO:-0400
TZNAME:EDT
DTSTART:20180311T070000
END:DAYLIGHT
BEGIN:STANDARD
TZOFFSETFROM:-0400
TZOFFSETTO:-0500
TZNAME:EST
DTSTART:20181104T060000
END:STANDARD
BEGIN:DAYLIGHT
TZOFFSETFROM:-0500
TZOFFSETTO:-0400
TZNAME:EDT
DTSTART:20190310T070000
END:DAYLIGHT
BEGIN:STANDARD
TZOFFSETFROM:-0400
TZOFFSETTO:-0500
TZNAME:EST
DTSTART:20191103T060000
END:STANDARD
BEGIN:DAYLIGHT
TZOFFSETFROM:-0500
TZOFFSETTO:-0400
TZNAME:EDT
DTSTART:20200308T070000
END:DAYLIGHT
BEGIN:STANDARD
TZOFFSETFROM:-0400
TZOFFSETTO:-0500
TZNAME:EST
DTSTART:20201101T060000
END:STANDARD
END:VTIMEZONE
BEGIN:VEVENT
DTSTART;TZID=America/Toronto:20190204T080000
DTEND;TZID=America/Toronto:20190204T170000
DTSTAMP:20260419T221523
CREATED:20190131T164816Z
LAST-MODIFIED:20190131T164816Z
UID:7477-1549267200-1549299600@lacdrolet.ca
SUMMARY:Collecte d'ordure test
DESCRIPTION:
URL:https://lacdrolet.ca/event/collecte-dordure-test/
CATEGORIES:Collecte des ordures
END:VEVENT
END:VCALENDAR